BEGIN:VCALENDAR
VERSION:2.0
PRODID:-//ILLUMIN8 - ECPv6.15.20//NONSGML v1.0//EN
CALSCALE:GREGORIAN
METHOD:PUBLISH
X-ORIGINAL-URL:https://illumin8.nvcc3.org
X-WR-CALDESC:Events for ILLUMIN8
REFRESH-INTERVAL;VALUE=DURATION:PT1H
X-Robots-Tag:noindex
X-PUBLISHED-TTL:PT1H
BEGIN:VTIMEZONE
TZID:America/New_York
BEGIN:DAYLIGHT
TZOFFSETFROM:-0500
TZOFFSETTO:-0400
TZNAME:EDT
DTSTART:20250309T070000
END:DAYLIGHT
BEGIN:STANDARD
TZOFFSETFROM:-0400
TZOFFSETTO:-0500
TZNAME:EST
DTSTART:20251102T060000
END:STANDARD
BEGIN:DAYLIGHT
TZOFFSETFROM:-0500
TZOFFSETTO:-0400
TZNAME:EDT
DTSTART:20260308T070000
END:DAYLIGHT
BEGIN:STANDARD
TZOFFSETFROM:-0400
TZOFFSETTO:-0500
TZNAME:EST
DTSTART:20261101T060000
END:STANDARD
BEGIN:DAYLIGHT
TZOFFSETFROM:-0500
TZOFFSETTO:-0400
TZNAME:EDT
DTSTART:20270314T070000
END:DAYLIGHT
BEGIN:STANDARD
TZOFFSETFROM:-0400
TZOFFSETTO:-0500
TZNAME:EST
DTSTART:20271107T060000
END:STANDARD
END:VTIMEZONE
BEGIN:VEVENT
DTSTART;VALUE=DATE:20260207
DTEND;VALUE=DATE:20260208
DTSTAMP:20260421T173755
CREATED:20260125T124225Z
LAST-MODIFIED:20260125T124225Z
UID:53833-1770422400-1770508799@illumin8.nvcc3.org
SUMMARY:DOD - Deacon Jackson
DESCRIPTION:Group: NVCC
URL:https://illumin8.nvcc3.org/event/dod-deacon-jackson-5/
LOCATION:GA
END:VEVENT
BEGIN:VEVENT
DTSTART;VALUE=DATE:20260207
DTEND;VALUE=DATE:20260208
DTSTAMP:20260421T173755
CREATED:20260125T124225Z
LAST-MODIFIED:20260125T124225Z
UID:53834-1770422400-1770508799@illumin8.nvcc3.org
SUMMARY:DOD - Deacon Jackson
DESCRIPTION:Group: NVCC
URL:https://illumin8.nvcc3.org/event/dod-deacon-jackson-6/
LOCATION:GA
END:VEVENT
BEGIN:VEVENT
DTSTART;TZID=America/New_York:20260207T080000
DTEND;TZID=America/New_York:20260207T090000
DTSTAMP:20260421T173755
CREATED:20250821T051953Z
LAST-MODIFIED:20260201T130820Z
UID:52259-1770451200-1770454800@illumin8.nvcc3.org
SUMMARY:Corporate Prayer
DESCRIPTION:Group: NVCC \nCorporate Prayer is Saturday morning\, September 7th at 8:00 in the Sanctuary. Come be with us in prayer knowing that god can and will answer our prayers.
URL:https://illumin8.nvcc3.org/event/corporate-prayer-6/
LOCATION:Sanctuary\, 5320 Phillips Dr\, Morrow\, GA\, United States
END:VEVENT
BEGIN:VEVENT
DTSTART;TZID=America/New_York:20260207T093000
DTEND;TZID=America/New_York:20260207T121500
DTSTAMP:20260421T173755
CREATED:20250925T062321Z
LAST-MODIFIED:20260201T130823Z
UID:52953-1770456600-1770466500@illumin8.nvcc3.org
SUMMARY:Heart of it All Meeting
DESCRIPTION:Group: NVCC \nStruggling with addiction? You are not alone. Join us for “In the Heart of it All\,” a support group open to anyone facing any addiction every Saturday 10:30 am – 12:00 noon. This is a safe\, judgment-free space where you can find support\, encouragement\, and hope. You don’t have to walk this journey alone.
URL:https://illumin8.nvcc3.org/event/heart-of-it-all-meeting-69/
LOCATION:New Vision Christian Church\, 5320 Phillips Dr\, Morrow\, GA\, United States
END:VEVENT
BEGIN:VEVENT
DTSTART;TZID=America/New_York:20260207T100000
DTEND;TZID=America/New_York:20260207T120000
DTSTAMP:20260421T173755
CREATED:20250821T051954Z
LAST-MODIFIED:20250918T061500Z
UID:52260-1770458400-1770465600@illumin8.nvcc3.org
SUMMARY:Heart of it All Meeting
DESCRIPTION:Group: NVCC \nStruggling with addiction? You are not alone. Join us for “In the Heart of it All\,” a support group open to anyone facing any addiction every Saturday 10:30 am – 12:00 noon. This is a safe\, judgment-free space where you can find support\, encouragement\, and hope. You don’t have to walk this journey alone.
URL:https://illumin8.nvcc3.org/event/heart-of-it-all-meeting-26/
LOCATION:Small Lobby – Student Wing\, 5320 Phillips Dr\, Morrow\, GA\, United States
END:VEVENT
END:VCALENDAR