BEGIN:VCALENDAR
VERSION:2.0
PRODID:-//ILLUMIN8 - ECPv6.15.20//NONSGML v1.0//EN
CALSCALE:GREGORIAN
METHOD:PUBLISH
X-WR-CALNAME:ILLUMIN8
X-ORIGINAL-URL:https://illumin8.nvcc3.org
X-WR-CALDESC:Events for ILLUMIN8
REFRESH-INTERVAL;VALUE=DURATION:PT1H
X-Robots-Tag:noindex
X-PUBLISHED-TTL:PT1H
BEGIN:VTIMEZONE
TZID:America/New_York
BEGIN:DAYLIGHT
TZOFFSETFROM:-0500
TZOFFSETTO:-0400
TZNAME:EDT
DTSTART:20250309T070000
END:DAYLIGHT
BEGIN:STANDARD
TZOFFSETFROM:-0400
TZOFFSETTO:-0500
TZNAME:EST
DTSTART:20251102T060000
END:STANDARD
BEGIN:DAYLIGHT
TZOFFSETFROM:-0500
TZOFFSETTO:-0400
TZNAME:EDT
DTSTART:20260308T070000
END:DAYLIGHT
BEGIN:STANDARD
TZOFFSETFROM:-0400
TZOFFSETTO:-0500
TZNAME:EST
DTSTART:20261101T060000
END:STANDARD
BEGIN:DAYLIGHT
TZOFFSETFROM:-0500
TZOFFSETTO:-0400
TZNAME:EDT
DTSTART:20270314T070000
END:DAYLIGHT
BEGIN:STANDARD
TZOFFSETFROM:-0400
TZOFFSETTO:-0500
TZNAME:EST
DTSTART:20271107T060000
END:STANDARD
END:VTIMEZONE
BEGIN:VEVENT
DTSTART;TZID=America/New_York:20260722T060000
DTEND;TZID=America/New_York:20260722T061500
DTSTAMP:20260422T024042
CREATED:20251002T062530Z
LAST-MODIFIED:20260419T151032Z
UID:53030-1784700000-1784700900@illumin8.nvcc3.org
SUMMARY:One Voice Prayer
DESCRIPTION:Group: NVCC \nOur weekly One Voice Prayer Call is on FAM Radio every Wednesday morning at 6:00 AM and sermon broadcasts are Sunday mornings at 8:00 AM. Download the FAM Radio app in your App Store or Google Play today! \nPrayer Requests \nEmail your prayer request or praise report at any time to pray@nvcc3.org. We are interceding in prayer for you EVERY DAY!
URL:https://illumin8.nvcc3.org/event/one-voice-prayer-48/
LOCATION:FAM Radio App
END:VEVENT
BEGIN:VEVENT
DTSTART;TZID=America/New_York:20260721T190000
DTEND;TZID=America/New_York:20260721T200000
DTSTAMP:20260422T024042
CREATED:20260118T121025Z
LAST-MODIFIED:20260118T121025Z
UID:53727-1784660400-1784664000@illumin8.nvcc3.org
SUMMARY:T.N.T. Small Group Bible Study
DESCRIPTION:Group: NVCC \nJoin us for T.N.T. (Tuesday Night Teaching) Bible Study in our smalls groups where we can learn\, disseminate and dig deeper into the Word of God.
URL:https://illumin8.nvcc3.org/event/t-n-t-small-group-bible-study-98/
LOCATION:New Vision Christian Church\, 5320 Phillips Dr\, Morrow\, GA\, United States
END:VEVENT
BEGIN:VEVENT
DTSTART;TZID=America/New_York:20260721T190000
DTEND;TZID=America/New_York:20260721T200000
DTSTAMP:20260422T024042
CREATED:20260118T121024Z
LAST-MODIFIED:20260419T151032Z
UID:53726-1784660400-1784664000@illumin8.nvcc3.org
SUMMARY:T.N.T. Small Group Bible Study
DESCRIPTION:Group: NVCC \nJoin us for T.N.T. (Tuesday Night Teaching) Bible Study in our smalls groups where we can learn\, disseminate and dig deeper into the Word of God.
URL:https://illumin8.nvcc3.org/event/t-n-t-small-group-bible-study-97/
LOCATION:New Vision Christian Church\, 5320 Phillips Dr\, Morrow\, GA\, United States
END:VEVENT
BEGIN:VEVENT
DTSTART;TZID=America/New_York:20260721T190000
DTEND;TZID=America/New_York:20260721T200000
DTSTAMP:20260422T024042
CREATED:20260104T111628Z
LAST-MODIFIED:20260111T113702Z
UID:53595-1784660400-1784664000@illumin8.nvcc3.org
SUMMARY:T.N.T. Small Group Bible Study
DESCRIPTION:Group: NVCC \nJoin us for T.N.T. (Tuesday Night Teaching) Bible Study in our smalls groups where we can learn\, disseminate and dig deeper into the Word of God.
URL:https://illumin8.nvcc3.org/event/t-n-t-small-group-bible-study-44/
LOCATION:New Vision Christian Church\, 5320 Phillips Dr\, Morrow\, GA\, United States
END:VEVENT
BEGIN:VEVENT
DTSTART;TZID=America/New_York:20260719T094500
DTEND;TZID=America/New_York:20260719T113000
DTSTAMP:20260422T024042
CREATED:20260125T124936Z
LAST-MODIFIED:20260208T134102Z
UID:53887-1784454300-1784460600@illumin8.nvcc3.org
SUMMARY:Vision Riders Bike Blessing
DESCRIPTION:Group: NVCC \nBlessing the Vision Riders during morning service
URL:https://illumin8.nvcc3.org/event/vision-riders-bike-blessing-10/
LOCATION:GA
END:VEVENT
BEGIN:VEVENT
DTSTART;TZID=America/New_York:20260719T094500
DTEND;TZID=America/New_York:20260719T113000
DTSTAMP:20260422T024042
CREATED:20250904T055325Z
LAST-MODIFIED:20260419T151031Z
UID:52866-1784454300-1784460600@illumin8.nvcc3.org
SUMMARY:Worship Service
DESCRIPTION:Group: NVCC \nJoin us for Worship Service every week! \nYoutube – @Luke S. Hall \nFacebook –	@New Vision Christian Church \nInstagram – @drlukehall & @itsanewvision
URL:https://illumin8.nvcc3.org/event/worship-service-49/
LOCATION:Sanctuary\, 5320 Phillips Dr\, Morrow\, GA\, United States
END:VEVENT
BEGIN:VEVENT
DTSTART;TZID=America/New_York:20260719T093000
DTEND;TZID=America/New_York:20260719T113000
DTSTAMP:20260422T024042
CREATED:20250904T055325Z
LAST-MODIFIED:20260419T151032Z
UID:52865-1784453400-1784460600@illumin8.nvcc3.org
SUMMARY:Illumin8 Student Ministry Service
DESCRIPTION:Group: Illumin8 (Staff) \nAll youth are welcome!
URL:https://illumin8.nvcc3.org/event/illumin8-student-ministry-service-48/
LOCATION:NVCC – Student Wing (New Vision Christian Church)\, 5320 Phillips Dr\, Morrow\, GA\, United States
END:VEVENT
BEGIN:VEVENT
DTSTART;TZID=America/New_York:20260719T080000
DTEND;TZID=America/New_York:20260719T090000
DTSTAMP:20260422T024042
CREATED:20250904T055324Z
LAST-MODIFIED:20260419T151031Z
UID:52864-1784448000-1784451600@illumin8.nvcc3.org
SUMMARY:Morning Manna (Sunday School)
DESCRIPTION:Group: NVCC \nJoin us every Sunday as we grasp an understanding of God through His Word and equip you for Kingdom living.
URL:https://illumin8.nvcc3.org/event/morning-manna-sunday-school-45/
LOCATION:New Vision Christian Church\, 5320 Phillips Dr\, Morrow\, GA\, United States
END:VEVENT
BEGIN:VEVENT
DTSTART;TZID=America/New_York:20260718T100000
DTEND;TZID=America/New_York:20260718T120000
DTSTAMP:20260422T024042
CREATED:20260201T131550Z
LAST-MODIFIED:20260419T151031Z
UID:53974-1784368800-1784376000@illumin8.nvcc3.org
SUMMARY:Circle of Sons
DESCRIPTION:Group: NVCC
URL:https://illumin8.nvcc3.org/event/circle-of-sons-4/
LOCATION:Lighthouse (158 & 160)\, 5320 Phillips Dr\, Morrow\, GA\, United States
END:VEVENT
BEGIN:VEVENT
DTSTART;TZID=America/New_York:20260718T100000
DTEND;TZID=America/New_York:20260718T120000
DTSTAMP:20260422T024042
CREATED:20250904T055324Z
LAST-MODIFIED:20250904T055324Z
UID:52863-1784368800-1784376000@illumin8.nvcc3.org
SUMMARY:Heart of it All Meeting
DESCRIPTION:Group: NVCC \nStruggling with addiction? You are not alone. Join us for “In the Heart of it All\,” a support group open to anyone facing any addiction every Saturday 10:30 am – 12:00 noon. This is a safe\, judgment-free space where you can find support\, encouragement\, and hope. You don’t have to walk this journey alone.
URL:https://illumin8.nvcc3.org/event/heart-of-it-all-meeting-49/
LOCATION:Small Lobby – Student Wing\, 5320 Phillips Dr\, Morrow\, GA\, United States
END:VEVENT
BEGIN:VEVENT
DTSTART;TZID=America/New_York:20260718T093000
DTEND;TZID=America/New_York:20260718T121500
DTSTAMP:20260422T024042
CREATED:20250925T062412Z
LAST-MODIFIED:20260419T151031Z
UID:52982-1784367000-1784376900@illumin8.nvcc3.org
SUMMARY:Heart of it All Meeting
DESCRIPTION:Group: NVCC \nStruggling with addiction? You are not alone. Join us for “In the Heart of it All\,” a support group open to anyone facing any addiction every Saturday 10:30 am – 12:00 noon. This is a safe\, judgment-free space where you can find support\, encouragement\, and hope. You don’t have to walk this journey alone.
URL:https://illumin8.nvcc3.org/event/heart-of-it-all-meeting-92/
LOCATION:New Vision Christian Church\, 5320 Phillips Dr\, Morrow\, GA\, United States
END:VEVENT
BEGIN:VEVENT
DTSTART;TZID=America/New_York:20260716T183000
DTEND;TZID=America/New_York:20260716T193000
DTSTAMP:20260422T024042
CREATED:20260118T120954Z
LAST-MODIFIED:20260419T151031Z
UID:53724-1784226600-1784230200@illumin8.nvcc3.org
SUMMARY:Catechism Class
DESCRIPTION:Group: NVCC \nRegistration is now CLOSED for this class.
URL:https://illumin8.nvcc3.org/event/catechism-class-46/
LOCATION:Sanctuary\, 5320 Phillips Dr\, Morrow\, GA\, United States
END:VEVENT
BEGIN:VEVENT
DTSTART;TZID=America/New_York:20260716T183000
DTEND;TZID=America/New_York:20260716T193000
DTSTAMP:20260422T024042
CREATED:20250925T062412Z
LAST-MODIFIED:20260111T113630Z
UID:52981-1784226600-1784230200@illumin8.nvcc3.org
SUMMARY:Catechism Class
DESCRIPTION:Group: NVCC \nRegistration is now CLOSED for this class.
URL:https://illumin8.nvcc3.org/event/catechism-class-23/
LOCATION:Sanctuary\, 5320 Phillips Dr\, Morrow\, GA\, United States
END:VEVENT
BEGIN:VEVENT
DTSTART;TZID=America/New_York:20260715T060000
DTEND;TZID=America/New_York:20260715T061500
DTSTAMP:20260422T024042
CREATED:20250904T055324Z
LAST-MODIFIED:20260419T151031Z
UID:52862-1784095200-1784096100@illumin8.nvcc3.org
SUMMARY:One Voice Prayer
DESCRIPTION:Group: NVCC \nOur weekly One Voice Prayer Call is on FAM Radio every Wednesday morning at 6:00 AM and sermon broadcasts are Sunday mornings at 8:00 AM. Download the FAM Radio app in your App Store or Google Play today! \nPrayer Requests \nEmail your prayer request or praise report at any time to pray@nvcc3.org. We are interceding in prayer for you EVERY DAY!
URL:https://illumin8.nvcc3.org/event/one-voice-prayer-47/
LOCATION:FAM Radio App
END:VEVENT
BEGIN:VEVENT
DTSTART;TZID=America/New_York:20260714T190000
DTEND;TZID=America/New_York:20260714T200000
DTSTAMP:20260422T024042
CREATED:20260118T120939Z
LAST-MODIFIED:20260118T120939Z
UID:53723-1784055600-1784059200@illumin8.nvcc3.org
SUMMARY:T.N.T. Small Group Bible Study
DESCRIPTION:Group: NVCC \nJoin us for T.N.T. (Tuesday Night Teaching) Bible Study in our smalls groups where we can learn\, disseminate and dig deeper into the Word of God.
URL:https://illumin8.nvcc3.org/event/t-n-t-small-group-bible-study-96/
LOCATION:New Vision Christian Church\, 5320 Phillips Dr\, Morrow\, GA\, United States
END:VEVENT
BEGIN:VEVENT
DTSTART;TZID=America/New_York:20260714T190000
DTEND;TZID=America/New_York:20260714T200000
DTSTAMP:20260422T024042
CREATED:20260118T120938Z
LAST-MODIFIED:20260419T151031Z
UID:53722-1784055600-1784059200@illumin8.nvcc3.org
SUMMARY:T.N.T. Small Group Bible Study
DESCRIPTION:Group: NVCC \nJoin us for T.N.T. (Tuesday Night Teaching) Bible Study in our smalls groups where we can learn\, disseminate and dig deeper into the Word of God.
URL:https://illumin8.nvcc3.org/event/t-n-t-small-group-bible-study-95/
LOCATION:New Vision Christian Church\, 5320 Phillips Dr\, Morrow\, GA\, United States
END:VEVENT
BEGIN:VEVENT
DTSTART;TZID=America/New_York:20260714T190000
DTEND;TZID=America/New_York:20260714T200000
DTSTAMP:20260422T024042
CREATED:20260104T111603Z
LAST-MODIFIED:20260111T113624Z
UID:53594-1784055600-1784059200@illumin8.nvcc3.org
SUMMARY:T.N.T. Small Group Bible Study
DESCRIPTION:Group: NVCC \nJoin us for T.N.T. (Tuesday Night Teaching) Bible Study in our smalls groups where we can learn\, disseminate and dig deeper into the Word of God.
URL:https://illumin8.nvcc3.org/event/t-n-t-small-group-bible-study-43/
LOCATION:New Vision Christian Church\, 5320 Phillips Dr\, Morrow\, GA\, United States
END:VEVENT
BEGIN:VEVENT
DTSTART;TZID=America/New_York:20260712T113000
DTEND;TZID=America/New_York:20260712T130000
DTSTAMP:20260422T024042
CREATED:20260201T131540Z
LAST-MODIFIED:20260419T151030Z
UID:53973-1783855800-1783861200@illumin8.nvcc3.org
SUMMARY:One Flesh Marriage Group Meeting
DESCRIPTION:Group: NVCC
URL:https://illumin8.nvcc3.org/event/one-flesh-marriage-group-meeting-2/
LOCATION:ECR Multi-Purpose Room\, 5320 Phillips Dr\, Morrow\, GA\, United States
END:VEVENT
BEGIN:VEVENT
DTSTART;TZID=America/New_York:20260712T094500
DTEND;TZID=America/New_York:20260712T113000
DTSTAMP:20260422T024042
CREATED:20260125T124907Z
LAST-MODIFIED:20260208T134016Z
UID:53884-1783849500-1783855800@illumin8.nvcc3.org
SUMMARY:Vision Riders Bike Blessing
DESCRIPTION:Group: NVCC \nBlessing the Vision Riders during morning service
URL:https://illumin8.nvcc3.org/event/vision-riders-bike-blessing-9/
LOCATION:GA
END:VEVENT
BEGIN:VEVENT
DTSTART;TZID=America/New_York:20260712T094500
DTEND;TZID=America/New_York:20260712T113000
DTSTAMP:20260422T024042
CREATED:20250828T052958Z
LAST-MODIFIED:20260419T151030Z
UID:52850-1783849500-1783855800@illumin8.nvcc3.org
SUMMARY:Worship Service
DESCRIPTION:Group: NVCC \nJoin us for Worship Service every week! \nYoutube – @Luke S. Hall \nFacebook –	@New Vision Christian Church \nInstagram – @drlukehall & @itsanewvision
URL:https://illumin8.nvcc3.org/event/worship-service-48/
LOCATION:Sanctuary\, 5320 Phillips Dr\, Morrow\, GA\, United States
END:VEVENT
BEGIN:VEVENT
DTSTART;TZID=America/New_York:20260712T093000
DTEND;TZID=America/New_York:20260712T113000
DTSTAMP:20260422T024042
CREATED:20250828T052959Z
LAST-MODIFIED:20260419T151030Z
UID:52851-1783848600-1783855800@illumin8.nvcc3.org
SUMMARY:Illumin8 Student Ministry Service
DESCRIPTION:Group: Illumin8 (Staff) \nAll youth are welcome!
URL:https://illumin8.nvcc3.org/event/illumin8-student-ministry-service-47/
LOCATION:NVCC – Student Wing (New Vision Christian Church)\, 5320 Phillips Dr\, Morrow\, GA\, United States
END:VEVENT
BEGIN:VEVENT
DTSTART;TZID=America/New_York:20260712T080000
DTEND;TZID=America/New_York:20260712T090000
DTSTAMP:20260422T024042
CREATED:20250828T052958Z
LAST-MODIFIED:20260419T151030Z
UID:52849-1783843200-1783846800@illumin8.nvcc3.org
SUMMARY:Morning Manna (Sunday School)
DESCRIPTION:Group: NVCC \nJoin us every Sunday as we grasp an understanding of God through His Word and equip you for Kingdom living.
URL:https://illumin8.nvcc3.org/event/morning-manna-sunday-school-44/
LOCATION:New Vision Christian Church\, 5320 Phillips Dr\, Morrow\, GA\, United States
END:VEVENT
BEGIN:VEVENT
DTSTART;TZID=America/New_York:20260711T100000
DTEND;TZID=America/New_York:20260711T120000
DTSTAMP:20260422T024042
CREATED:20250828T052958Z
LAST-MODIFIED:20250918T061542Z
UID:52848-1783764000-1783771200@illumin8.nvcc3.org
SUMMARY:Heart of it All Meeting
DESCRIPTION:Group: NVCC \nStruggling with addiction? You are not alone. Join us for “In the Heart of it All\,” a support group open to anyone facing any addiction every Saturday 10:30 am – 12:00 noon. This is a safe\, judgment-free space where you can find support\, encouragement\, and hope. You don’t have to walk this journey alone.
URL:https://illumin8.nvcc3.org/event/heart-of-it-all-meeting-48/
LOCATION:Small Lobby – Student Wing\, 5320 Phillips Dr\, Morrow\, GA\, United States
END:VEVENT
BEGIN:VEVENT
DTSTART;TZID=America/New_York:20260711T093000
DTEND;TZID=America/New_York:20260711T121500
DTSTAMP:20260422T024042
CREATED:20250925T062410Z
LAST-MODIFIED:20260419T151030Z
UID:52979-1783762200-1783772100@illumin8.nvcc3.org
SUMMARY:Heart of it All Meeting
DESCRIPTION:Group: NVCC \nStruggling with addiction? You are not alone. Join us for “In the Heart of it All\,” a support group open to anyone facing any addiction every Saturday 10:30 am – 12:00 noon. This is a safe\, judgment-free space where you can find support\, encouragement\, and hope. You don’t have to walk this journey alone.
URL:https://illumin8.nvcc3.org/event/heart-of-it-all-meeting-91/
LOCATION:New Vision Christian Church\, 5320 Phillips Dr\, Morrow\, GA\, United States
END:VEVENT
BEGIN:VEVENT
DTSTART;TZID=America/New_York:20260708T060000
DTEND;TZID=America/New_York:20260708T061500
DTSTAMP:20260422T024042
CREATED:20250828T052958Z
LAST-MODIFIED:20260419T151030Z
UID:52847-1783490400-1783491300@illumin8.nvcc3.org
SUMMARY:One Voice Prayer
DESCRIPTION:Group: NVCC \nOur weekly One Voice Prayer Call is on FAM Radio every Wednesday morning at 6:00 AM and sermon broadcasts are Sunday mornings at 8:00 AM. Download the FAM Radio app in your App Store or Google Play today! \nPrayer Requests \nEmail your prayer request or praise report at any time to pray@nvcc3.org. We are interceding in prayer for you EVERY DAY!
URL:https://illumin8.nvcc3.org/event/one-voice-prayer-46/
LOCATION:FAM Radio App
END:VEVENT
BEGIN:VEVENT
DTSTART;TZID=America/New_York:20260707T190000
DTEND;TZID=America/New_York:20260707T200000
DTSTAMP:20260422T024042
CREATED:20260118T120903Z
LAST-MODIFIED:20260118T120903Z
UID:53721-1783450800-1783454400@illumin8.nvcc3.org
SUMMARY:T.N.T. Small Group Bible Study
DESCRIPTION:Group: NVCC \nJoin us for T.N.T. (Tuesday Night Teaching) Bible Study in our smalls groups where we can learn\, disseminate and dig deeper into the Word of God.
URL:https://illumin8.nvcc3.org/event/t-n-t-small-group-bible-study-94/
LOCATION:New Vision Christian Church\, 5320 Phillips Dr\, Morrow\, GA\, United States
END:VEVENT
BEGIN:VEVENT
DTSTART;TZID=America/New_York:20260707T190000
DTEND;TZID=America/New_York:20260707T200000
DTSTAMP:20260422T024042
CREATED:20260118T120849Z
LAST-MODIFIED:20260419T151030Z
UID:53720-1783450800-1783454400@illumin8.nvcc3.org
SUMMARY:T.N.T. Small Group Bible Study
DESCRIPTION:Group: NVCC \nJoin us for T.N.T. (Tuesday Night Teaching) Bible Study in our smalls groups where we can learn\, disseminate and dig deeper into the Word of God.
URL:https://illumin8.nvcc3.org/event/t-n-t-small-group-bible-study-93/
LOCATION:New Vision Christian Church\, 5320 Phillips Dr\, Morrow\, GA\, United States
END:VEVENT
BEGIN:VEVENT
DTSTART;TZID=America/New_York:20260707T190000
DTEND;TZID=America/New_York:20260707T200000
DTSTAMP:20260422T024042
CREATED:20260104T111534Z
LAST-MODIFIED:20260111T113553Z
UID:53592-1783450800-1783454400@illumin8.nvcc3.org
SUMMARY:T.N.T. Small Group Bible Study
DESCRIPTION:Group: NVCC \nJoin us for T.N.T. (Tuesday Night Teaching) Bible Study in our smalls groups where we can learn\, disseminate and dig deeper into the Word of God.
URL:https://illumin8.nvcc3.org/event/t-n-t-small-group-bible-study-42/
LOCATION:New Vision Christian Church\, 5320 Phillips Dr\, Morrow\, GA\, United States
END:VEVENT
BEGIN:VEVENT
DTSTART;TZID=America/New_York:20260705T094500
DTEND;TZID=America/New_York:20260705T113000
DTSTAMP:20260422T024042
CREATED:20260125T124852Z
LAST-MODIFIED:20260208T133935Z
UID:53881-1783244700-1783251000@illumin8.nvcc3.org
SUMMARY:Vision Riders Bike Blessing
DESCRIPTION:Group: NVCC \nBlessing the Vision Riders during morning service
URL:https://illumin8.nvcc3.org/event/vision-riders-bike-blessing-8/
LOCATION:GA
END:VEVENT
BEGIN:VEVENT
DTSTART;TZID=America/New_York:20260705T094500
DTEND;TZID=America/New_York:20260705T113000
DTSTAMP:20260422T024042
CREATED:20250828T052957Z
LAST-MODIFIED:20260419T151029Z
UID:52845-1783244700-1783251000@illumin8.nvcc3.org
SUMMARY:Worship Service
DESCRIPTION:Group: NVCC \nJoin us for Worship Service every week! \nYoutube – @Luke S. Hall \nFacebook –	@New Vision Christian Church \nInstagram – @drlukehall & @itsanewvision
URL:https://illumin8.nvcc3.org/event/worship-service-47/
LOCATION:Sanctuary\, 5320 Phillips Dr\, Morrow\, GA\, United States
END:VEVENT
END:VCALENDAR