BEGIN:VCALENDAR
VERSION:2.0
PRODID:-//ILLUMIN8 - ECPv6.15.20//NONSGML v1.0//EN
CALSCALE:GREGORIAN
METHOD:PUBLISH
X-WR-CALNAME:ILLUMIN8
X-ORIGINAL-URL:https://illumin8.nvcc3.org
X-WR-CALDESC:Events for ILLUMIN8
REFRESH-INTERVAL;VALUE=DURATION:PT1H
X-Robots-Tag:noindex
X-PUBLISHED-TTL:PT1H
BEGIN:VTIMEZONE
TZID:America/New_York
BEGIN:DAYLIGHT
TZOFFSETFROM:-0500
TZOFFSETTO:-0400
TZNAME:EDT
DTSTART:20250309T070000
END:DAYLIGHT
BEGIN:STANDARD
TZOFFSETFROM:-0400
TZOFFSETTO:-0500
TZNAME:EST
DTSTART:20251102T060000
END:STANDARD
BEGIN:DAYLIGHT
TZOFFSETFROM:-0500
TZOFFSETTO:-0400
TZNAME:EDT
DTSTART:20260308T070000
END:DAYLIGHT
BEGIN:STANDARD
TZOFFSETFROM:-0400
TZOFFSETTO:-0500
TZNAME:EST
DTSTART:20261101T060000
END:STANDARD
BEGIN:DAYLIGHT
TZOFFSETFROM:-0500
TZOFFSETTO:-0400
TZNAME:EDT
DTSTART:20270314T070000
END:DAYLIGHT
BEGIN:STANDARD
TZOFFSETFROM:-0400
TZOFFSETTO:-0500
TZNAME:EST
DTSTART:20271107T060000
END:STANDARD
END:VTIMEZONE
BEGIN:VEVENT
DTSTART;TZID=America/New_York:20260816T094500
DTEND;TZID=America/New_York:20260816T113000
DTSTAMP:20260422T022655
CREATED:20260125T125101Z
LAST-MODIFIED:20260208T134338Z
UID:53899-1786873500-1786879800@illumin8.nvcc3.org
SUMMARY:Vision Riders Bike Blessing
DESCRIPTION:Group: NVCC \nBlessing the Vision Riders during morning service
URL:https://illumin8.nvcc3.org/event/vision-riders-bike-blessing-14/
LOCATION:GA
END:VEVENT
BEGIN:VEVENT
DTSTART;TZID=America/New_York:20260816T094500
DTEND;TZID=America/New_York:20260816T113000
DTSTAMP:20260422T022655
CREATED:20251030T065656Z
LAST-MODIFIED:20260419T151037Z
UID:53258-1786873500-1786879800@illumin8.nvcc3.org
SUMMARY:Worship Service
DESCRIPTION:Group: NVCC \nJoin us for Worship Service every week! \nYoutube – @Luke S. Hall \nFacebook –	@New Vision Christian Church \nInstagram – @drlukehall & @itsanewvision
URL:https://illumin8.nvcc3.org/event/worship-service-53/
LOCATION:Sanctuary\, 5320 Phillips Dr\, Morrow\, GA\, United States
END:VEVENT
BEGIN:VEVENT
DTSTART;TZID=America/New_York:20260816T093000
DTEND;TZID=America/New_York:20260816T113000
DTSTAMP:20260422T022655
CREATED:20251030T065657Z
LAST-MODIFIED:20260419T151037Z
UID:53259-1786872600-1786879800@illumin8.nvcc3.org
SUMMARY:Illumin8 Student Ministry Service
DESCRIPTION:Group: Illumin8 (Staff) \nAll youth are welcome!
URL:https://illumin8.nvcc3.org/event/illumin8-student-ministry-service-52/
LOCATION:NVCC – Student Wing (New Vision Christian Church)\, 5320 Phillips Dr\, Morrow\, GA\, United States
END:VEVENT
BEGIN:VEVENT
DTSTART;TZID=America/New_York:20260816T080000
DTEND;TZID=America/New_York:20260816T090000
DTSTAMP:20260422T022655
CREATED:20251030T065656Z
LAST-MODIFIED:20260419T151037Z
UID:53257-1786867200-1786870800@illumin8.nvcc3.org
SUMMARY:Morning Manna (Sunday School)
DESCRIPTION:Group: NVCC \nJoin us every Sunday as we grasp an understanding of God through His Word and equip you for Kingdom living.
URL:https://illumin8.nvcc3.org/event/morning-manna-sunday-school-49/
LOCATION:New Vision Christian Church\, 5320 Phillips Dr\, Morrow\, GA\, United States
END:VEVENT
BEGIN:VEVENT
DTSTART;TZID=America/New_York:20260815T100000
DTEND;TZID=America/New_York:20260815T120000
DTSTAMP:20260422T022655
CREATED:20260201T131708Z
LAST-MODIFIED:20260419T151037Z
UID:53978-1786788000-1786795200@illumin8.nvcc3.org
SUMMARY:Circle of Sons
DESCRIPTION:Group: NVCC
URL:https://illumin8.nvcc3.org/event/circle-of-sons-5/
LOCATION:Lighthouse (158 & 160)\, 5320 Phillips Dr\, Morrow\, GA\, United States
END:VEVENT
BEGIN:VEVENT
DTSTART;TZID=America/New_York:20260815T093000
DTEND;TZID=America/New_York:20260815T121500
DTSTAMP:20260422T022655
CREATED:20251030T065656Z
LAST-MODIFIED:20260419T151036Z
UID:53256-1786786200-1786796100@illumin8.nvcc3.org
SUMMARY:Heart of it All Meeting
DESCRIPTION:Group: NVCC \nStruggling with addiction? You are not alone. Join us for “In the Heart of it All\,” a support group open to anyone facing any addiction every Saturday 10:30 am – 12:00 noon. This is a safe\, judgment-free space where you can find support\, encouragement\, and hope. You don’t have to walk this journey alone.
URL:https://illumin8.nvcc3.org/event/heart-of-it-all-meeting-96/
LOCATION:New Vision Christian Church\, 5320 Phillips Dr\, Morrow\, GA\, United States
END:VEVENT
BEGIN:VEVENT
DTSTART;TZID=America/New_York:20260813T183000
DTEND;TZID=America/New_York:20260813T193000
DTSTAMP:20260422T022655
CREATED:20260118T121229Z
LAST-MODIFIED:20260118T121229Z
UID:53737-1786645800-1786649400@illumin8.nvcc3.org
SUMMARY:Catechism Class
DESCRIPTION:Group: NVCC \nRegistration is now CLOSED for this class.
URL:https://illumin8.nvcc3.org/event/catechism-class-49/
LOCATION:Sanctuary\, 5320 Phillips Dr\, Morrow\, GA\, United States
END:VEVENT
BEGIN:VEVENT
DTSTART;TZID=America/New_York:20260813T183000
DTEND;TZID=America/New_York:20260813T193000
DTSTAMP:20260422T022655
CREATED:20260118T121228Z
LAST-MODIFIED:20260419T151036Z
UID:53736-1786645800-1786649400@illumin8.nvcc3.org
SUMMARY:Catechism Class
DESCRIPTION:Group: NVCC \nRegistration is now CLOSED for this class.
URL:https://illumin8.nvcc3.org/event/catechism-class-48/
LOCATION:Sanctuary\, 5320 Phillips Dr\, Morrow\, GA\, United States
END:VEVENT
BEGIN:VEVENT
DTSTART;TZID=America/New_York:20260813T183000
DTEND;TZID=America/New_York:20260813T193000
DTSTAMP:20260422T022655
CREATED:20251030T065655Z
LAST-MODIFIED:20260111T113855Z
UID:53255-1786645800-1786649400@illumin8.nvcc3.org
SUMMARY:Catechism Class
DESCRIPTION:Group: NVCC \nRegistration is now CLOSED for this class.
URL:https://illumin8.nvcc3.org/event/catechism-class-25/
LOCATION:Sanctuary\, 5320 Phillips Dr\, Morrow\, GA\, United States
END:VEVENT
BEGIN:VEVENT
DTSTART;TZID=America/New_York:20260812T060000
DTEND;TZID=America/New_York:20260812T061500
DTSTAMP:20260422T022655
CREATED:20251030T065655Z
LAST-MODIFIED:20260419T151036Z
UID:53254-1786514400-1786515300@illumin8.nvcc3.org
SUMMARY:One Voice Prayer
DESCRIPTION:Group: NVCC \nOur weekly One Voice Prayer Call is on FAM Radio every Wednesday morning at 6:00 AM and sermon broadcasts are Sunday mornings at 8:00 AM. Download the FAM Radio app in your App Store or Google Play today! \nPrayer Requests \nEmail your prayer request or praise report at any time to pray@nvcc3.org. We are interceding in prayer for you EVERY DAY!
URL:https://illumin8.nvcc3.org/event/one-voice-prayer-51/
LOCATION:FAM Radio App
END:VEVENT
BEGIN:VEVENT
DTSTART;TZID=America/New_York:20260811T190000
DTEND;TZID=America/New_York:20260811T200000
DTSTAMP:20260422T022655
CREATED:20260118T121220Z
LAST-MODIFIED:20260118T121220Z
UID:53735-1786474800-1786478400@illumin8.nvcc3.org
SUMMARY:T.N.T. Small Group Bible Study
DESCRIPTION:Group: NVCC \nJoin us for T.N.T. (Tuesday Night Teaching) Bible Study in our smalls groups where we can learn\, disseminate and dig deeper into the Word of God.
URL:https://illumin8.nvcc3.org/event/t-n-t-small-group-bible-study-104/
LOCATION:New Vision Christian Church\, 5320 Phillips Dr\, Morrow\, GA\, United States
END:VEVENT
BEGIN:VEVENT
DTSTART;TZID=America/New_York:20260811T190000
DTEND;TZID=America/New_York:20260811T200000
DTSTAMP:20260422T022655
CREATED:20260118T121209Z
LAST-MODIFIED:20260419T151035Z
UID:53734-1786474800-1786478400@illumin8.nvcc3.org
SUMMARY:T.N.T. Small Group Bible Study
DESCRIPTION:Group: NVCC \nJoin us for T.N.T. (Tuesday Night Teaching) Bible Study in our smalls groups where we can learn\, disseminate and dig deeper into the Word of God.
URL:https://illumin8.nvcc3.org/event/t-n-t-small-group-bible-study-103/
LOCATION:New Vision Christian Church\, 5320 Phillips Dr\, Morrow\, GA\, United States
END:VEVENT
BEGIN:VEVENT
DTSTART;TZID=America/New_York:20260811T190000
DTEND;TZID=America/New_York:20260811T200000
DTSTAMP:20260422T022655
CREATED:20260104T111749Z
LAST-MODIFIED:20260111T113846Z
UID:53601-1786474800-1786478400@illumin8.nvcc3.org
SUMMARY:T.N.T. Small Group Bible Study
DESCRIPTION:Group: NVCC \nJoin us for T.N.T. (Tuesday Night Teaching) Bible Study in our smalls groups where we can learn\, disseminate and dig deeper into the Word of God.
URL:https://illumin8.nvcc3.org/event/t-n-t-small-group-bible-study-47/
LOCATION:New Vision Christian Church\, 5320 Phillips Dr\, Morrow\, GA\, United States
END:VEVENT
BEGIN:VEVENT
DTSTART;TZID=America/New_York:20260809T094500
DTEND;TZID=America/New_York:20260809T113000
DTSTAMP:20260422T022655
CREATED:20260125T125042Z
LAST-MODIFIED:20260208T134255Z
UID:53895-1786268700-1786275000@illumin8.nvcc3.org
SUMMARY:Vision Riders Bike Blessing
DESCRIPTION:Group: NVCC \nBlessing the Vision Riders during morning service
URL:https://illumin8.nvcc3.org/event/vision-riders-bike-blessing-13/
LOCATION:GA
END:VEVENT
BEGIN:VEVENT
DTSTART;TZID=America/New_York:20260809T094500
DTEND;TZID=America/New_York:20260809T113000
DTSTAMP:20260422T022655
CREATED:20251030T065654Z
LAST-MODIFIED:20260419T151035Z
UID:53252-1786268700-1786275000@illumin8.nvcc3.org
SUMMARY:Worship Service
DESCRIPTION:Group: NVCC \nJoin us for Worship Service every week! \nYoutube – @Luke S. Hall \nFacebook –	@New Vision Christian Church \nInstagram – @drlukehall & @itsanewvision
URL:https://illumin8.nvcc3.org/event/worship-service-52/
LOCATION:Sanctuary\, 5320 Phillips Dr\, Morrow\, GA\, United States
END:VEVENT
BEGIN:VEVENT
DTSTART;TZID=America/New_York:20260809T093000
DTEND;TZID=America/New_York:20260809T113000
DTSTAMP:20260422T022655
CREATED:20251023T064148Z
LAST-MODIFIED:20260419T151035Z
UID:53218-1786267800-1786275000@illumin8.nvcc3.org
SUMMARY:Illumin8 Student Ministry Service
DESCRIPTION:Group: Illumin8 (Staff) \nAll youth are welcome!
URL:https://illumin8.nvcc3.org/event/illumin8-student-ministry-service-51/
LOCATION:NVCC – Student Wing (New Vision Christian Church)\, 5320 Phillips Dr\, Morrow\, GA\, United States
END:VEVENT
BEGIN:VEVENT
DTSTART;TZID=America/New_York:20260809T080000
DTEND;TZID=America/New_York:20260809T090000
DTSTAMP:20260422T022655
CREATED:20251009T063128Z
LAST-MODIFIED:20260419T151035Z
UID:53133-1786262400-1786266000@illumin8.nvcc3.org
SUMMARY:Morning Manna (Sunday School)
DESCRIPTION:Group: NVCC \nJoin us every Sunday as we grasp an understanding of God through His Word and equip you for Kingdom living.
URL:https://illumin8.nvcc3.org/event/morning-manna-sunday-school-48/
LOCATION:New Vision Christian Church\, 5320 Phillips Dr\, Morrow\, GA\, United States
END:VEVENT
BEGIN:VEVENT
DTSTART;TZID=America/New_York:20260808T093000
DTEND;TZID=America/New_York:20260808T121500
DTSTAMP:20260422T022655
CREATED:20251009T063128Z
LAST-MODIFIED:20260419T151035Z
UID:53132-1786181400-1786191300@illumin8.nvcc3.org
SUMMARY:Heart of it All Meeting
DESCRIPTION:Group: NVCC \nStruggling with addiction? You are not alone. Join us for “In the Heart of it All\,” a support group open to anyone facing any addiction every Saturday 10:30 am – 12:00 noon. This is a safe\, judgment-free space where you can find support\, encouragement\, and hope. You don’t have to walk this journey alone.
URL:https://illumin8.nvcc3.org/event/heart-of-it-all-meeting-95/
LOCATION:New Vision Christian Church\, 5320 Phillips Dr\, Morrow\, GA\, United States
END:VEVENT
BEGIN:VEVENT
DTSTART;TZID=America/New_York:20260808T080000
DTEND;TZID=America/New_York:20260808T100000
DTSTAMP:20260422T022655
CREATED:20260201T131648Z
LAST-MODIFIED:20260419T151035Z
UID:53977-1786176000-1786183200@illumin8.nvcc3.org
SUMMARY:L.O.V. Ladies of Vision Breakfast
DESCRIPTION:Group: NVCC \nLadies of Vision Breakfast – I Surrender
URL:https://illumin8.nvcc3.org/event/l-o-v-ladies-of-vision-breakfast-2/
LOCATION:ECR Multi-Purpose Room\, 5320 Phillips Dr\, Morrow\, GA\, United States
END:VEVENT
BEGIN:VEVENT
DTSTART;TZID=America/New_York:20260807T180000
DTEND;TZID=America/New_York:20260807T200000
DTSTAMP:20260422T022655
CREATED:20251009T063128Z
LAST-MODIFIED:20260419T151035Z
UID:53131-1786125600-1786132800@illumin8.nvcc3.org
SUMMARY:B3 First Friday Feeding
DESCRIPTION:Group: Blessed to Be a Blessing (B3) \nJoin the B3 Ministry as we serve those in need.
URL:https://illumin8.nvcc3.org/event/b3-first-friday-feeding-12/
LOCATION:Cracker Barrel RV and Truck Parking Lot\, 1458 Southlake Plaza Dr\, Morrow\, GA\, United States
END:VEVENT
BEGIN:VEVENT
DTSTART;TZID=America/New_York:20260805T060000
DTEND;TZID=America/New_York:20260805T061500
DTSTAMP:20260422T022655
CREATED:20251009T063127Z
LAST-MODIFIED:20260419T151034Z
UID:53130-1785909600-1785910500@illumin8.nvcc3.org
SUMMARY:One Voice Prayer
DESCRIPTION:Group: NVCC \nOur weekly One Voice Prayer Call is on FAM Radio every Wednesday morning at 6:00 AM and sermon broadcasts are Sunday mornings at 8:00 AM. Download the FAM Radio app in your App Store or Google Play today! \nPrayer Requests \nEmail your prayer request or praise report at any time to pray@nvcc3.org. We are interceding in prayer for you EVERY DAY!
URL:https://illumin8.nvcc3.org/event/one-voice-prayer-50/
LOCATION:FAM Radio App
END:VEVENT
BEGIN:VEVENT
DTSTART;TZID=America/New_York:20260804T190000
DTEND;TZID=America/New_York:20260804T200000
DTSTAMP:20260422T022655
CREATED:20260118T121149Z
LAST-MODIFIED:20260118T121149Z
UID:53733-1785870000-1785873600@illumin8.nvcc3.org
SUMMARY:T.N.T. Small Group Bible Study
DESCRIPTION:Group: NVCC \nJoin us for T.N.T. (Tuesday Night Teaching) Bible Study in our smalls groups where we can learn\, disseminate and dig deeper into the Word of God.
URL:https://illumin8.nvcc3.org/event/t-n-t-small-group-bible-study-102/
LOCATION:New Vision Christian Church\, 5320 Phillips Dr\, Morrow\, GA\, United States
END:VEVENT
BEGIN:VEVENT
DTSTART;TZID=America/New_York:20260804T190000
DTEND;TZID=America/New_York:20260804T200000
DTSTAMP:20260422T022655
CREATED:20260118T121137Z
LAST-MODIFIED:20260419T151034Z
UID:53732-1785870000-1785873600@illumin8.nvcc3.org
SUMMARY:T.N.T. Small Group Bible Study
DESCRIPTION:Group: NVCC \nJoin us for T.N.T. (Tuesday Night Teaching) Bible Study in our smalls groups where we can learn\, disseminate and dig deeper into the Word of God.
URL:https://illumin8.nvcc3.org/event/t-n-t-small-group-bible-study-101/
LOCATION:New Vision Christian Church\, 5320 Phillips Dr\, Morrow\, GA\, United States
END:VEVENT
BEGIN:VEVENT
DTSTART;TZID=America/New_York:20260804T190000
DTEND;TZID=America/New_York:20260804T200000
DTSTAMP:20260422T022655
CREATED:20260104T111727Z
LAST-MODIFIED:20260111T113812Z
UID:53599-1785870000-1785873600@illumin8.nvcc3.org
SUMMARY:T.N.T. Small Group Bible Study
DESCRIPTION:Group: NVCC \nJoin us for T.N.T. (Tuesday Night Teaching) Bible Study in our smalls groups where we can learn\, disseminate and dig deeper into the Word of God.
URL:https://illumin8.nvcc3.org/event/t-n-t-small-group-bible-study-46/
LOCATION:New Vision Christian Church\, 5320 Phillips Dr\, Morrow\, GA\, United States
END:VEVENT
BEGIN:VEVENT
DTSTART;TZID=America/New_York:20260802T094500
DTEND;TZID=America/New_York:20260802T113000
DTSTAMP:20260422T022655
CREATED:20260125T125026Z
LAST-MODIFIED:20260208T134216Z
UID:53893-1785663900-1785670200@illumin8.nvcc3.org
SUMMARY:Vision Riders Bike Blessing
DESCRIPTION:Group: NVCC \nBlessing the Vision Riders during morning service
URL:https://illumin8.nvcc3.org/event/vision-riders-bike-blessing-12/
LOCATION:GA
END:VEVENT
BEGIN:VEVENT
DTSTART;TZID=America/New_York:20260802T094500
DTEND;TZID=America/New_York:20260802T113000
DTSTAMP:20260422T022655
CREATED:20251009T063127Z
LAST-MODIFIED:20260419T151034Z
UID:53128-1785663900-1785670200@illumin8.nvcc3.org
SUMMARY:Worship Service
DESCRIPTION:Group: NVCC \nJoin us for Worship Service every week! \nYoutube – @Luke S. Hall \nFacebook –	@New Vision Christian Church \nInstagram – @drlukehall & @itsanewvision
URL:https://illumin8.nvcc3.org/event/worship-service-51/
LOCATION:Sanctuary\, 5320 Phillips Dr\, Morrow\, GA\, United States
END:VEVENT
BEGIN:VEVENT
DTSTART;TZID=America/New_York:20260802T093000
DTEND;TZID=America/New_York:20260802T113000
DTSTAMP:20260422T022655
CREATED:20251009T063127Z
LAST-MODIFIED:20260419T151034Z
UID:53129-1785663000-1785670200@illumin8.nvcc3.org
SUMMARY:Illumin8 Student Ministry Service
DESCRIPTION:Group: Illumin8 (Staff) \nAll youth are welcome!
URL:https://illumin8.nvcc3.org/event/illumin8-student-ministry-service-50/
LOCATION:NVCC – Student Wing (New Vision Christian Church)\, 5320 Phillips Dr\, Morrow\, GA\, United States
END:VEVENT
BEGIN:VEVENT
DTSTART;TZID=America/New_York:20260802T080000
DTEND;TZID=America/New_York:20260802T090000
DTSTAMP:20260422T022655
CREATED:20251009T063126Z
LAST-MODIFIED:20260419T151034Z
UID:53126-1785657600-1785661200@illumin8.nvcc3.org
SUMMARY:Morning Manna (Sunday School)
DESCRIPTION:Group: NVCC \nJoin us every Sunday as we grasp an understanding of God through His Word and equip you for Kingdom living.
URL:https://illumin8.nvcc3.org/event/morning-manna-sunday-school-47/
LOCATION:New Vision Christian Church\, 5320 Phillips Dr\, Morrow\, GA\, United States
END:VEVENT
BEGIN:VEVENT
DTSTART;TZID=America/New_York:20260802T080000
DTEND;TZID=America/New_York:20260802T090000
DTSTAMP:20260422T022655
CREATED:20251009T063126Z
LAST-MODIFIED:20260419T151034Z
UID:53127-1785657600-1785661200@illumin8.nvcc3.org
SUMMARY:Coffee & Conversation (Sunday School)
DESCRIPTION:Group: NVCC \nJoin us every 1st Sunday for coffee and discussion on God’s Word.
URL:https://illumin8.nvcc3.org/event/coffee-conversation-sunday-school-12/
LOCATION:ECR Multi-Purpose Room\, 5320 Phillips Dr\, Morrow\, GA\, United States
END:VEVENT
BEGIN:VEVENT
DTSTART;TZID=America/New_York:20260801T093000
DTEND;TZID=America/New_York:20260801T121500
DTSTAMP:20260422T022655
CREATED:20251009T063126Z
LAST-MODIFIED:20260419T151033Z
UID:53125-1785576600-1785586500@illumin8.nvcc3.org
SUMMARY:Heart of it All Meeting
DESCRIPTION:Group: NVCC \nStruggling with addiction? You are not alone. Join us for “In the Heart of it All\,” a support group open to anyone facing any addiction every Saturday 10:30 am – 12:00 noon. This is a safe\, judgment-free space where you can find support\, encouragement\, and hope. You don’t have to walk this journey alone.
URL:https://illumin8.nvcc3.org/event/heart-of-it-all-meeting-94/
LOCATION:New Vision Christian Church\, 5320 Phillips Dr\, Morrow\, GA\, United States
END:VEVENT
END:VCALENDAR