BEGIN:VCALENDAR
VERSION:2.0
PRODID:-//ILLUMIN8 - ECPv6.15.20//NONSGML v1.0//EN
CALSCALE:GREGORIAN
METHOD:PUBLISH
X-WR-CALNAME:ILLUMIN8
X-ORIGINAL-URL:https://illumin8.nvcc3.org
X-WR-CALDESC:Events for ILLUMIN8
REFRESH-INTERVAL;VALUE=DURATION:PT1H
X-Robots-Tag:noindex
X-PUBLISHED-TTL:PT1H
BEGIN:VTIMEZONE
TZID:America/New_York
BEGIN:DAYLIGHT
TZOFFSETFROM:-0500
TZOFFSETTO:-0400
TZNAME:EDT
DTSTART:20250309T070000
END:DAYLIGHT
BEGIN:STANDARD
TZOFFSETFROM:-0400
TZOFFSETTO:-0500
TZNAME:EST
DTSTART:20251102T060000
END:STANDARD
BEGIN:DAYLIGHT
TZOFFSETFROM:-0500
TZOFFSETTO:-0400
TZNAME:EDT
DTSTART:20260308T070000
END:DAYLIGHT
BEGIN:STANDARD
TZOFFSETFROM:-0400
TZOFFSETTO:-0500
TZNAME:EST
DTSTART:20261101T060000
END:STANDARD
BEGIN:DAYLIGHT
TZOFFSETFROM:-0500
TZOFFSETTO:-0400
TZNAME:EDT
DTSTART:20270314T070000
END:DAYLIGHT
BEGIN:STANDARD
TZOFFSETFROM:-0400
TZOFFSETTO:-0500
TZNAME:EST
DTSTART:20271107T060000
END:STANDARD
END:VTIMEZONE
BEGIN:VEVENT
DTSTART;TZID=America/New_York:20261217T183000
DTEND;TZID=America/New_York:20261217T193000
DTSTAMP:20260422T050852
CREATED:20260405T150815Z
LAST-MODIFIED:20260419T151057Z
UID:54125-1797532200-1797535800@illumin8.nvcc3.org
SUMMARY:Catechism Class
DESCRIPTION:Group: NVCC \nRegistration is now CLOSED for this class.
URL:https://illumin8.nvcc3.org/event/catechism-class-8/
LOCATION:Sanctuary\, 5320 Phillips Dr\, Morrow\, GA\, United States
END:VEVENT
BEGIN:VEVENT
DTSTART;TZID=America/New_York:20261216T060000
DTEND;TZID=America/New_York:20261216T061500
DTSTAMP:20260422T050852
CREATED:20260405T150815Z
LAST-MODIFIED:20260419T151057Z
UID:54124-1797400800-1797401700@illumin8.nvcc3.org
SUMMARY:One Voice Prayer
DESCRIPTION:Group: NVCC \nOur weekly One Voice Prayer Call is on FAM Radio every Wednesday morning at 6:00 AM and sermon broadcasts are Sunday mornings at 8:00 AM. Download the FAM Radio app in your App Store or Google Play today! \nPrayer Requests \nEmail your prayer request or praise report at any time to pray@nvcc3.org. We are interceding in prayer for you EVERY DAY!
URL:https://illumin8.nvcc3.org/event/one-voice-prayer-10/
LOCATION:FAM Radio App
END:VEVENT
BEGIN:VEVENT
DTSTART;TZID=America/New_York:20261215T190000
DTEND;TZID=America/New_York:20261215T200000
DTSTAMP:20260422T050852
CREATED:20260405T150815Z
LAST-MODIFIED:20260419T151057Z
UID:54123-1797361200-1797364800@illumin8.nvcc3.org
SUMMARY:T.N.T. Small Group Bible Study
DESCRIPTION:Group: NVCC \nJoin us for T.N.T. (Tuesday Night Teaching) Bible Study in our smalls groups where we can learn\, disseminate and dig deeper into the Word of God.
URL:https://illumin8.nvcc3.org/event/t-n-t-small-group-bible-study-16/
LOCATION:New Vision Christian Church\, 5320 Phillips Dr\, Morrow\, GA\, United States
END:VEVENT
BEGIN:VEVENT
DTSTART;TZID=America/New_York:20261213T094500
DTEND;TZID=America/New_York:20261213T113000
DTSTAMP:20260422T050852
CREATED:20260405T150815Z
LAST-MODIFIED:20260419T151057Z
UID:54121-1797155100-1797161400@illumin8.nvcc3.org
SUMMARY:Worship Service
DESCRIPTION:Group: NVCC \nJoin us for Worship Service every week! \nYoutube – @Luke S. Hall \nFacebook –	@New Vision Christian Church \nInstagram – @drlukehall & @itsanewvision
URL:https://illumin8.nvcc3.org/event/worship-service-9/
LOCATION:Sanctuary\, 5320 Phillips Dr\, Morrow\, GA\, United States
END:VEVENT
BEGIN:VEVENT
DTSTART;TZID=America/New_York:20261213T093000
DTEND;TZID=America/New_York:20261213T113000
DTSTAMP:20260422T050852
CREATED:20260405T150815Z
LAST-MODIFIED:20260419T151057Z
UID:54122-1797154200-1797161400@illumin8.nvcc3.org
SUMMARY:Illumin8 Student Ministry Service
DESCRIPTION:Group: Illumin8 (Staff) \nAll youth are welcome!
URL:https://illumin8.nvcc3.org/event/illumin8-student-ministry-service-10/
LOCATION:NVCC – Student Wing (New Vision Christian Church)\, 5320 Phillips Dr\, Morrow\, GA\, United States
END:VEVENT
BEGIN:VEVENT
DTSTART;TZID=America/New_York:20261213T080000
DTEND;TZID=America/New_York:20261213T090000
DTSTAMP:20260422T050852
CREATED:20260405T150814Z
LAST-MODIFIED:20260419T151057Z
UID:54120-1797148800-1797152400@illumin8.nvcc3.org
SUMMARY:Morning Manna (Sunday School)
DESCRIPTION:Group: NVCC \nJoin us every Sunday as we grasp an understanding of God through His Word and equip you for Kingdom living.
URL:https://illumin8.nvcc3.org/event/morning-manna-sunday-school-9/
LOCATION:New Vision Christian Church\, 5320 Phillips Dr\, Morrow\, GA\, United States
END:VEVENT
BEGIN:VEVENT
DTSTART;TZID=America/New_York:20261212T093000
DTEND;TZID=America/New_York:20261212T121500
DTSTAMP:20260422T050852
CREATED:20260405T150814Z
LAST-MODIFIED:20260419T151056Z
UID:54118-1797067800-1797077700@illumin8.nvcc3.org
SUMMARY:Heart of it All Meeting
DESCRIPTION:Group: NVCC \nStruggling with addiction? You are not alone. Join us for “In the Heart of it All\,” a support group open to anyone facing any addiction every Saturday 10:30 am – 12:00 noon. This is a safe\, judgment-free space where you can find support\, encouragement\, and hope. You don’t have to walk this journey alone.
URL:https://illumin8.nvcc3.org/event/heart-of-it-all-meeting-12/
LOCATION:New Vision Christian Church\, 5320 Phillips Dr\, Morrow\, GA\, United States
END:VEVENT
BEGIN:VEVENT
DTSTART;TZID=America/New_York:20261212T080000
DTEND;TZID=America/New_York:20261212T100000
DTSTAMP:20260422T050852
CREATED:20260405T150814Z
LAST-MODIFIED:20260419T151057Z
UID:54119-1797062400-1797069600@illumin8.nvcc3.org
SUMMARY:L.O.V. Christmas Breakfast
DESCRIPTION:Group: NVCC
URL:https://illumin8.nvcc3.org/event/l-o-v-christmas-breakfast/
LOCATION:ECR Multi-Purpose Room\, 5320 Phillips Dr\, Morrow\, GA\, United States
END:VEVENT
BEGIN:VEVENT
DTSTART;TZID=America/New_York:20261209T060000
DTEND;TZID=America/New_York:20261209T061500
DTSTAMP:20260422T050852
CREATED:20260329T145329Z
LAST-MODIFIED:20260419T151056Z
UID:54105-1796796000-1796796900@illumin8.nvcc3.org
SUMMARY:One Voice Prayer
DESCRIPTION:Group: NVCC \nOur weekly One Voice Prayer Call is on FAM Radio every Wednesday morning at 6:00 AM and sermon broadcasts are Sunday mornings at 8:00 AM. Download the FAM Radio app in your App Store or Google Play today! \nPrayer Requests \nEmail your prayer request or praise report at any time to pray@nvcc3.org. We are interceding in prayer for you EVERY DAY!
URL:https://illumin8.nvcc3.org/event/one-voice-prayer-9/
LOCATION:FAM Radio App
END:VEVENT
BEGIN:VEVENT
DTSTART;TZID=America/New_York:20261208T190000
DTEND;TZID=America/New_York:20261208T200000
DTSTAMP:20260422T050852
CREATED:20260329T145328Z
LAST-MODIFIED:20260419T151056Z
UID:54104-1796756400-1796760000@illumin8.nvcc3.org
SUMMARY:T.N.T. Small Group Bible Study
DESCRIPTION:Group: NVCC \nJoin us for T.N.T. (Tuesday Night Teaching) Bible Study in our smalls groups where we can learn\, disseminate and dig deeper into the Word of God.
URL:https://illumin8.nvcc3.org/event/t-n-t-small-group-bible-study-15/
LOCATION:New Vision Christian Church\, 5320 Phillips Dr\, Morrow\, GA\, United States
END:VEVENT
BEGIN:VEVENT
DTSTART;TZID=America/New_York:20261206T094500
DTEND;TZID=America/New_York:20261206T113000
DTSTAMP:20260422T050852
CREATED:20260329T145328Z
LAST-MODIFIED:20260419T151055Z
UID:54102-1796550300-1796556600@illumin8.nvcc3.org
SUMMARY:Worship Service
DESCRIPTION:Group: NVCC \nJoin us for Worship Service every week! \nYoutube – @Luke S. Hall \nFacebook –	@New Vision Christian Church \nInstagram – @drlukehall & @itsanewvision
URL:https://illumin8.nvcc3.org/event/worship-service-8/
LOCATION:Sanctuary\, 5320 Phillips Dr\, Morrow\, GA\, United States
END:VEVENT
BEGIN:VEVENT
DTSTART;TZID=America/New_York:20261206T093000
DTEND;TZID=America/New_York:20261206T113000
DTSTAMP:20260422T050852
CREATED:20260329T145328Z
LAST-MODIFIED:20260419T151055Z
UID:54103-1796549400-1796556600@illumin8.nvcc3.org
SUMMARY:Illumin8 Student Ministry Service
DESCRIPTION:Group: Illumin8 (Staff) \nAll youth are welcome!
URL:https://illumin8.nvcc3.org/event/illumin8-student-ministry-service-9/
LOCATION:NVCC – Student Wing (New Vision Christian Church)\, 5320 Phillips Dr\, Morrow\, GA\, United States
END:VEVENT
BEGIN:VEVENT
DTSTART;TZID=America/New_York:20261206T080000
DTEND;TZID=America/New_York:20261206T090000
DTSTAMP:20260422T050852
CREATED:20260329T145328Z
LAST-MODIFIED:20260419T151055Z
UID:54101-1796544000-1796547600@illumin8.nvcc3.org
SUMMARY:Morning Manna (Sunday School)
DESCRIPTION:Group: NVCC \nJoin us every Sunday as we grasp an understanding of God through His Word and equip you for Kingdom living.
URL:https://illumin8.nvcc3.org/event/morning-manna-sunday-school-8/
LOCATION:New Vision Christian Church\, 5320 Phillips Dr\, Morrow\, GA\, United States
END:VEVENT
BEGIN:VEVENT
DTSTART;TZID=America/New_York:20261206T080000
DTEND;TZID=America/New_York:20261206T090000
DTSTAMP:20260422T050852
CREATED:20260329T145328Z
LAST-MODIFIED:20260419T151055Z
UID:54100-1796544000-1796547600@illumin8.nvcc3.org
SUMMARY:Coffee & Conversation (Sunday School)
DESCRIPTION:Group: NVCC \nJoin us every 1st Sunday for coffee and discussion on God’s Word.
URL:https://illumin8.nvcc3.org/event/coffee-conversation-sunday-school-2/
LOCATION:ECR Multi-Purpose Room\, 5320 Phillips Dr\, Morrow\, GA\, United States
END:VEVENT
BEGIN:VEVENT
DTSTART;TZID=America/New_York:20261205T093000
DTEND;TZID=America/New_York:20261205T121500
DTSTAMP:20260422T050852
CREATED:20260329T145328Z
LAST-MODIFIED:20260419T151055Z
UID:54099-1796463000-1796472900@illumin8.nvcc3.org
SUMMARY:Heart of it All Meeting
DESCRIPTION:Group: NVCC \nStruggling with addiction? You are not alone. Join us for “In the Heart of it All\,” a support group open to anyone facing any addiction every Saturday 10:30 am – 12:00 noon. This is a safe\, judgment-free space where you can find support\, encouragement\, and hope. You don’t have to walk this journey alone.
URL:https://illumin8.nvcc3.org/event/heart-of-it-all-meeting-11/
LOCATION:New Vision Christian Church\, 5320 Phillips Dr\, Morrow\, GA\, United States
END:VEVENT
BEGIN:VEVENT
DTSTART;TZID=America/New_York:20261205T090000
DTEND;TZID=America/New_York:20261205T110000
DTSTAMP:20260422T050852
CREATED:20260322T145429Z
LAST-MODIFIED:20260419T151055Z
UID:54087-1796461200-1796468400@illumin8.nvcc3.org
SUMMARY:Ambassadors Quarterly Mtg
DESCRIPTION:Group: Ambassadors & Greeters
URL:https://illumin8.nvcc3.org/event/ambassadors-quarterly-mtg-3/
LOCATION:Sanctuary\, 5320 Phillips Dr\, Morrow\, GA\, United States
END:VEVENT
BEGIN:VEVENT
DTSTART;TZID=America/New_York:20261205T083000
DTEND;TZID=America/New_York:20261205T100000
DTSTAMP:20260422T050852
CREATED:20260329T145327Z
LAST-MODIFIED:20260419T151055Z
UID:54096-1796459400-1796464800@illumin8.nvcc3.org
SUMMARY:New Members' Orientation Class
DESCRIPTION:Group: NVCC
URL:https://illumin8.nvcc3.org/event/new-members-orientation-class-4/
LOCATION:ECR Multi-Purpose Room\, 5320 Phillips Dr\, Morrow\, GA\, United States
END:VEVENT
BEGIN:VEVENT
DTSTART;TZID=America/New_York:20261205T080000
DTEND;TZID=America/New_York:20261205T090000
DTSTAMP:20260422T050852
CREATED:20260322T145428Z
LAST-MODIFIED:20260419T151054Z
UID:54086-1796457600-1796461200@illumin8.nvcc3.org
SUMMARY:Corporate Prayer
DESCRIPTION:Group: NVCC \nCorporate Prayer is Saturday morning\, September 7th at 8:00 in the Sanctuary. Come be with us in prayer knowing that god can and will answer our prayers.
URL:https://illumin8.nvcc3.org/event/corporate-prayer-2/
LOCATION:Sanctuary\, 5320 Phillips Dr\, Morrow\, GA\, United States
END:VEVENT
BEGIN:VEVENT
DTSTART;TZID=America/New_York:20261204T180000
DTEND;TZID=America/New_York:20261204T200000
DTSTAMP:20260422T050852
CREATED:20260322T145428Z
LAST-MODIFIED:20260419T151054Z
UID:54085-1796407200-1796414400@illumin8.nvcc3.org
SUMMARY:B3 First Friday Feeding
DESCRIPTION:Group: Blessed to Be a Blessing (B3) \nJoin the B3 Ministry as we serve those in need.
URL:https://illumin8.nvcc3.org/event/b3-first-friday-feeding-2/
LOCATION:Cracker Barrel RV and Truck Parking Lot\, 1458 Southlake Plaza Dr\, Morrow\, GA\, United States
END:VEVENT
BEGIN:VEVENT
DTSTART;TZID=America/New_York:20261203T183000
DTEND;TZID=America/New_York:20261203T193000
DTSTAMP:20260422T050852
CREATED:20260322T145428Z
LAST-MODIFIED:20260419T151054Z
UID:54084-1796322600-1796326200@illumin8.nvcc3.org
SUMMARY:Catechism Class
DESCRIPTION:Group: NVCC \nRegistration is now CLOSED for this class.
URL:https://illumin8.nvcc3.org/event/catechism-class-7/
LOCATION:Sanctuary\, 5320 Phillips Dr\, Morrow\, GA\, United States
END:VEVENT
BEGIN:VEVENT
DTSTART;TZID=America/New_York:20261202T060000
DTEND;TZID=America/New_York:20261202T061500
DTSTAMP:20260422T050852
CREATED:20260322T145428Z
LAST-MODIFIED:20260419T151054Z
UID:54083-1796191200-1796192100@illumin8.nvcc3.org
SUMMARY:One Voice Prayer
DESCRIPTION:Group: NVCC \nOur weekly One Voice Prayer Call is on FAM Radio every Wednesday morning at 6:00 AM and sermon broadcasts are Sunday mornings at 8:00 AM. Download the FAM Radio app in your App Store or Google Play today! \nPrayer Requests \nEmail your prayer request or praise report at any time to pray@nvcc3.org. We are interceding in prayer for you EVERY DAY!
URL:https://illumin8.nvcc3.org/event/one-voice-prayer-8/
LOCATION:FAM Radio App
END:VEVENT
BEGIN:VEVENT
DTSTART;TZID=America/New_York:20261201T190000
DTEND;TZID=America/New_York:20261201T200000
DTSTAMP:20260422T050852
CREATED:20260322T145428Z
LAST-MODIFIED:20260419T151054Z
UID:54082-1796151600-1796155200@illumin8.nvcc3.org
SUMMARY:T.N.T. Small Group Bible Study
DESCRIPTION:Group: NVCC \nJoin us for T.N.T. (Tuesday Night Teaching) Bible Study in our smalls groups where we can learn\, disseminate and dig deeper into the Word of God.
URL:https://illumin8.nvcc3.org/event/t-n-t-small-group-bible-study-14/
LOCATION:New Vision Christian Church\, 5320 Phillips Dr\, Morrow\, GA\, United States
END:VEVENT
BEGIN:VEVENT
DTSTART;TZID=America/New_York:20261129T094500
DTEND;TZID=America/New_York:20261129T113000
DTSTAMP:20260422T050852
CREATED:20260322T145428Z
LAST-MODIFIED:20260419T151054Z
UID:54081-1795945500-1795951800@illumin8.nvcc3.org
SUMMARY:Worship Service
DESCRIPTION:Group: NVCC \nJoin us for Worship Service every week! \nYoutube – @Luke S. Hall \nFacebook –	@New Vision Christian Church \nInstagram – @drlukehall & @itsanewvision
URL:https://illumin8.nvcc3.org/event/worship-service-7/
LOCATION:Sanctuary\, 5320 Phillips Dr\, Morrow\, GA\, United States
END:VEVENT
BEGIN:VEVENT
DTSTART;TZID=America/New_York:20261129T093000
DTEND;TZID=America/New_York:20261129T113000
DTSTAMP:20260422T050852
CREATED:20260322T145427Z
LAST-MODIFIED:20260419T151054Z
UID:54080-1795944600-1795951800@illumin8.nvcc3.org
SUMMARY:Illumin8 Student Ministry Service
DESCRIPTION:Group: Illumin8 (Staff) \nAll youth are welcome!
URL:https://illumin8.nvcc3.org/event/illumin8-student-ministry-service-8/
LOCATION:NVCC – Student Wing (New Vision Christian Church)\, 5320 Phillips Dr\, Morrow\, GA\, United States
END:VEVENT
BEGIN:VEVENT
DTSTART;TZID=America/New_York:20261129T080000
DTEND;TZID=America/New_York:20261129T090000
DTSTAMP:20260422T050852
CREATED:20260315T145314Z
LAST-MODIFIED:20260419T151053Z
UID:54070-1795939200-1795942800@illumin8.nvcc3.org
SUMMARY:Morning Manna (Sunday School)
DESCRIPTION:Group: NVCC \nJoin us every Sunday as we grasp an understanding of God through His Word and equip you for Kingdom living.
URL:https://illumin8.nvcc3.org/event/morning-manna-sunday-school-7/
LOCATION:New Vision Christian Church\, 5320 Phillips Dr\, Morrow\, GA\, United States
END:VEVENT
BEGIN:VEVENT
DTSTART;TZID=America/New_York:20261128T093000
DTEND;TZID=America/New_York:20261128T121500
DTSTAMP:20260422T050852
CREATED:20260315T145314Z
LAST-MODIFIED:20260419T151053Z
UID:54069-1795858200-1795868100@illumin8.nvcc3.org
SUMMARY:Heart of it All Meeting
DESCRIPTION:Group: NVCC \nStruggling with addiction? You are not alone. Join us for “In the Heart of it All\,” a support group open to anyone facing any addiction every Saturday 10:30 am – 12:00 noon. This is a safe\, judgment-free space where you can find support\, encouragement\, and hope. You don’t have to walk this journey alone.
URL:https://illumin8.nvcc3.org/event/heart-of-it-all-meeting-10/
LOCATION:New Vision Christian Church\, 5320 Phillips Dr\, Morrow\, GA\, United States
END:VEVENT
BEGIN:VEVENT
DTSTART;TZID=America/New_York:20261125T060000
DTEND;TZID=America/New_York:20261125T061500
DTSTAMP:20260422T050852
CREATED:20260315T145314Z
LAST-MODIFIED:20260419T151053Z
UID:54068-1795586400-1795587300@illumin8.nvcc3.org
SUMMARY:One Voice Prayer
DESCRIPTION:Group: NVCC \nOur weekly One Voice Prayer Call is on FAM Radio every Wednesday morning at 6:00 AM and sermon broadcasts are Sunday mornings at 8:00 AM. Download the FAM Radio app in your App Store or Google Play today! \nPrayer Requests \nEmail your prayer request or praise report at any time to pray@nvcc3.org. We are interceding in prayer for you EVERY DAY!
URL:https://illumin8.nvcc3.org/event/one-voice-prayer-7/
LOCATION:FAM Radio App
END:VEVENT
BEGIN:VEVENT
DTSTART;TZID=America/New_York:20261124T190000
DTEND;TZID=America/New_York:20261124T200000
DTSTAMP:20260422T050852
CREATED:20260315T145314Z
LAST-MODIFIED:20260419T151053Z
UID:54067-1795546800-1795550400@illumin8.nvcc3.org
SUMMARY:T.N.T. Small Group Bible Study
DESCRIPTION:Group: NVCC \nJoin us for T.N.T. (Tuesday Night Teaching) Bible Study in our smalls groups where we can learn\, disseminate and dig deeper into the Word of God.
URL:https://illumin8.nvcc3.org/event/t-n-t-small-group-bible-study-13/
LOCATION:New Vision Christian Church\, 5320 Phillips Dr\, Morrow\, GA\, United States
END:VEVENT
BEGIN:VEVENT
DTSTART;TZID=America/New_York:20261122T113000
DTEND;TZID=America/New_York:20261122T123000
DTSTAMP:20260422T050852
CREATED:20260315T145313Z
LAST-MODIFIED:20260419T151053Z
UID:54065-1795347000-1795350600@illumin8.nvcc3.org
SUMMARY:Bond & Brew Coffee Co. Available After Worship Service
DESCRIPTION:Group: NVCC \nWe welcome Bond and Brew Coffee after service. They are on site with delicious refreshers and coffees for our visitors and guests while supplies last. You may also purchase refreshers and specialty drinks. 
URL:https://illumin8.nvcc3.org/event/bond-brew-coffee-co-available-after-worship-service-2/
LOCATION:Courtyard\, 5320 Phillips Dr\, Morrow\, GA\, United States
END:VEVENT
BEGIN:VEVENT
DTSTART;TZID=America/New_York:20261122T094500
DTEND;TZID=America/New_York:20261122T113000
DTSTAMP:20260422T050852
CREATED:20260315T145313Z
LAST-MODIFIED:20260419T151053Z
UID:54064-1795340700-1795347000@illumin8.nvcc3.org
SUMMARY:Worship Service
DESCRIPTION:Group: NVCC \nJoin us for Worship Service every week! \nYoutube – @Luke S. Hall \nFacebook –	@New Vision Christian Church \nInstagram – @drlukehall & @itsanewvision
URL:https://illumin8.nvcc3.org/event/worship-service-6/
LOCATION:Sanctuary\, 5320 Phillips Dr\, Morrow\, GA\, United States
END:VEVENT
END:VCALENDAR