BEGIN:VCALENDAR
VERSION:2.0
PRODID:-//ILLUMIN8 - ECPv6.15.20//NONSGML v1.0//EN
CALSCALE:GREGORIAN
METHOD:PUBLISH
X-WR-CALNAME:ILLUMIN8
X-ORIGINAL-URL:https://illumin8.nvcc3.org
X-WR-CALDESC:Events for ILLUMIN8
REFRESH-INTERVAL;VALUE=DURATION:PT1H
X-Robots-Tag:noindex
X-PUBLISHED-TTL:PT1H
BEGIN:VTIMEZONE
TZID:America/New_York
BEGIN:DAYLIGHT
TZOFFSETFROM:-0500
TZOFFSETTO:-0400
TZNAME:EDT
DTSTART:20250309T070000
END:DAYLIGHT
BEGIN:STANDARD
TZOFFSETFROM:-0400
TZOFFSETTO:-0500
TZNAME:EST
DTSTART:20251102T060000
END:STANDARD
BEGIN:DAYLIGHT
TZOFFSETFROM:-0500
TZOFFSETTO:-0400
TZNAME:EDT
DTSTART:20260308T070000
END:DAYLIGHT
BEGIN:STANDARD
TZOFFSETFROM:-0400
TZOFFSETTO:-0500
TZNAME:EST
DTSTART:20261101T060000
END:STANDARD
BEGIN:DAYLIGHT
TZOFFSETFROM:-0500
TZOFFSETTO:-0400
TZNAME:EDT
DTSTART:20270314T070000
END:DAYLIGHT
BEGIN:STANDARD
TZOFFSETFROM:-0400
TZOFFSETTO:-0500
TZNAME:EST
DTSTART:20271107T060000
END:STANDARD
END:VTIMEZONE
BEGIN:VEVENT
DTSTART;TZID=America/New_York:20260127T190000
DTEND;TZID=America/New_York:20260127T200000
DTSTAMP:20260421T221834
CREATED:20260118T115503Z
LAST-MODIFIED:20260118T115503Z
UID:53650-1769540400-1769544000@illumin8.nvcc3.org
SUMMARY:T.N.T. Small Group Bible Study
DESCRIPTION:Group: NVCC \nJoin us for T.N.T. (Tuesday Night Teaching) Bible Study in our smalls groups where we can learn\, disseminate and dig deeper into the Word of God.
URL:https://illumin8.nvcc3.org/event/t-n-t-small-group-bible-study-56/
LOCATION:New Vision Christian Church\, 5320 Phillips Dr\, Morrow\, GA\, United States
END:VEVENT
BEGIN:VEVENT
DTSTART;TZID=America/New_York:20260127T190000
DTEND;TZID=America/New_York:20260127T200000
DTSTAMP:20260421T221834
CREATED:20260104T110327Z
LAST-MODIFIED:20260111T112204Z
UID:53548-1769540400-1769544000@illumin8.nvcc3.org
SUMMARY:T.N.T. Small Group Bible Study
DESCRIPTION:Group: NVCC \nJoin us for T.N.T. (Tuesday Night Teaching) Bible Study in our smalls groups where we can learn\, disseminate and dig deeper into the Word of God.
URL:https://illumin8.nvcc3.org/event/t-n-t-small-group-bible-study-4/
LOCATION:New Vision Christian Church\, 5320 Phillips Dr\, Morrow\, GA\, United States
END:VEVENT
BEGIN:VEVENT
DTSTART;TZID=America/New_York:20260124T093000
DTEND;TZID=America/New_York:20260124T121500
DTSTAMP:20260421T221834
CREATED:20250925T062314Z
LAST-MODIFIED:20260118T115454Z
UID:52951-1769247000-1769256900@illumin8.nvcc3.org
SUMMARY:Heart of it All Meeting
DESCRIPTION:Group: NVCC \nStruggling with addiction? You are not alone. Join us for “In the Heart of it All\,” a support group open to anyone facing any addiction every Saturday 10:30 am – 12:00 noon. This is a safe\, judgment-free space where you can find support\, encouragement\, and hope. You don’t have to walk this journey alone.
URL:https://illumin8.nvcc3.org/event/heart-of-it-all-meeting-67/
LOCATION:New Vision Christian Church\, 5320 Phillips Dr\, Morrow\, GA\, United States
END:VEVENT
END:VCALENDAR