BEGIN:VCALENDAR
VERSION:2.0
PRODID:-//ILLUMIN8 - ECPv6.15.20//NONSGML v1.0//EN
CALSCALE:GREGORIAN
METHOD:PUBLISH
X-WR-CALNAME:ILLUMIN8
X-ORIGINAL-URL:https://illumin8.nvcc3.org
X-WR-CALDESC:Events for ILLUMIN8
REFRESH-INTERVAL;VALUE=DURATION:PT1H
X-Robots-Tag:noindex
X-PUBLISHED-TTL:PT1H
BEGIN:VTIMEZONE
TZID:America/New_York
BEGIN:DAYLIGHT
TZOFFSETFROM:-0500
TZOFFSETTO:-0400
TZNAME:EDT
DTSTART:20250309T070000
END:DAYLIGHT
BEGIN:STANDARD
TZOFFSETFROM:-0400
TZOFFSETTO:-0500
TZNAME:EST
DTSTART:20251102T060000
END:STANDARD
BEGIN:DAYLIGHT
TZOFFSETFROM:-0500
TZOFFSETTO:-0400
TZNAME:EDT
DTSTART:20260308T070000
END:DAYLIGHT
BEGIN:STANDARD
TZOFFSETFROM:-0400
TZOFFSETTO:-0500
TZNAME:EST
DTSTART:20261101T060000
END:STANDARD
BEGIN:DAYLIGHT
TZOFFSETFROM:-0500
TZOFFSETTO:-0400
TZNAME:EDT
DTSTART:20270314T070000
END:DAYLIGHT
BEGIN:STANDARD
TZOFFSETFROM:-0400
TZOFFSETTO:-0500
TZNAME:EST
DTSTART:20271107T060000
END:STANDARD
END:VTIMEZONE
BEGIN:VEVENT
DTSTART;TZID=America/New_York:20260623T190000
DTEND;TZID=America/New_York:20260623T200000
DTSTAMP:20260422T020649
CREATED:20260118T120730Z
LAST-MODIFIED:20260419T151027Z
UID:53714-1782241200-1782244800@illumin8.nvcc3.org
SUMMARY:T.N.T. Small Group Bible Study
DESCRIPTION:Group: NVCC \nJoin us for T.N.T. (Tuesday Night Teaching) Bible Study in our smalls groups where we can learn\, disseminate and dig deeper into the Word of God.
URL:https://illumin8.nvcc3.org/event/t-n-t-small-group-bible-study-90/
LOCATION:New Vision Christian Church\, 5320 Phillips Dr\, Morrow\, GA\, United States
END:VEVENT
BEGIN:VEVENT
DTSTART;TZID=America/New_York:20260624T060000
DTEND;TZID=America/New_York:20260624T061500
DTSTAMP:20260422T020649
CREATED:20250821T052045Z
LAST-MODIFIED:20260419T151027Z
UID:52395-1782280800-1782281700@illumin8.nvcc3.org
SUMMARY:One Voice Prayer
DESCRIPTION:Group: NVCC \nOur weekly One Voice Prayer Call is on FAM Radio every Wednesday morning at 6:00 AM and sermon broadcasts are Sunday mornings at 8:00 AM. Download the FAM Radio app in your App Store or Google Play today! \nPrayer Requests \nEmail your prayer request or praise report at any time to pray@nvcc3.org. We are interceding in prayer for you EVERY DAY!
URL:https://illumin8.nvcc3.org/event/one-voice-prayer-44/
LOCATION:FAM Radio App
END:VEVENT
BEGIN:VEVENT
DTSTART;TZID=America/New_York:20260627T093000
DTEND;TZID=America/New_York:20260627T121500
DTSTAMP:20260422T020649
CREATED:20250925T062405Z
LAST-MODIFIED:20260419T151027Z
UID:52977-1782552600-1782562500@illumin8.nvcc3.org
SUMMARY:Heart of it All Meeting
DESCRIPTION:Group: NVCC \nStruggling with addiction? You are not alone. Join us for “In the Heart of it All\,” a support group open to anyone facing any addiction every Saturday 10:30 am – 12:00 noon. This is a safe\, judgment-free space where you can find support\, encouragement\, and hope. You don’t have to walk this journey alone.
URL:https://illumin8.nvcc3.org/event/heart-of-it-all-meeting-89/
LOCATION:New Vision Christian Church\, 5320 Phillips Dr\, Morrow\, GA\, United States
END:VEVENT
BEGIN:VEVENT
DTSTART;TZID=America/New_York:20260627T100000
DTEND;TZID=America/New_York:20260627T120000
DTSTAMP:20260422T020649
CREATED:20250821T052046Z
LAST-MODIFIED:20250918T061536Z
UID:52396-1782554400-1782561600@illumin8.nvcc3.org
SUMMARY:Heart of it All Meeting
DESCRIPTION:Group: NVCC \nStruggling with addiction? You are not alone. Join us for “In the Heart of it All\,” a support group open to anyone facing any addiction every Saturday 10:30 am – 12:00 noon. This is a safe\, judgment-free space where you can find support\, encouragement\, and hope. You don’t have to walk this journey alone.
URL:https://illumin8.nvcc3.org/event/heart-of-it-all-meeting-46/
LOCATION:Small Lobby – Student Wing\, 5320 Phillips Dr\, Morrow\, GA\, United States
END:VEVENT
BEGIN:VEVENT
DTSTART;TZID=America/New_York:20260628T080000
DTEND;TZID=America/New_York:20260628T090000
DTSTAMP:20260422T020649
CREATED:20250821T052046Z
LAST-MODIFIED:20260419T151028Z
UID:52397-1782633600-1782637200@illumin8.nvcc3.org
SUMMARY:Morning Manna (Sunday School)
DESCRIPTION:Group: NVCC \nJoin us every Sunday as we grasp an understanding of God through His Word and equip you for Kingdom living.
URL:https://illumin8.nvcc3.org/event/morning-manna-sunday-school-42/
LOCATION:New Vision Christian Church\, 5320 Phillips Dr\, Morrow\, GA\, United States
END:VEVENT
BEGIN:VEVENT
DTSTART;TZID=America/New_York:20260628T093000
DTEND;TZID=America/New_York:20260628T113000
DTSTAMP:20260422T020649
CREATED:20250821T052049Z
LAST-MODIFIED:20260419T151028Z
UID:52400-1782639000-1782646200@illumin8.nvcc3.org
SUMMARY:Illumin8 Student Ministry Service
DESCRIPTION:Group: Illumin8 (Staff) \nAll youth are welcome!
URL:https://illumin8.nvcc3.org/event/illumin8-student-ministry-service-45/
LOCATION:NVCC – Student Wing (New Vision Christian Church)\, 5320 Phillips Dr\, Morrow\, GA\, United States
END:VEVENT
BEGIN:VEVENT
DTSTART;TZID=America/New_York:20260628T094500
DTEND;TZID=America/New_York:20260628T113000
DTSTAMP:20260422T020649
CREATED:20250821T052047Z
LAST-MODIFIED:20260104T111609Z
UID:52398-1782639900-1782646200@illumin8.nvcc3.org
SUMMARY:Worship Service
DESCRIPTION:Group: NVCC \nJoin us for Worship Service every week! \nYoutube – @Luke S. Hall \nFacebook –	@New Vision Christian Church \nInstagram – @drlukehall & @itsanewvision
URL:https://illumin8.nvcc3.org/event/worship-service-46/
LOCATION:Sanctuary\, 5320 Phillips Dr\, Morrow\, GA\, United States
END:VEVENT
BEGIN:VEVENT
DTSTART;TZID=America/New_York:20260628T094500
DTEND;TZID=America/New_York:20260628T113000
DTSTAMP:20260422T020649
CREATED:20260111T113313Z
LAST-MODIFIED:20260419T151028Z
UID:53641-1782639900-1782646200@illumin8.nvcc3.org
SUMMARY:Worship Service - Love Day
DESCRIPTION:Group: NVCC \nJoin us for Worship Service every week! \nYoutube – @Luke S. Hall \nFacebook –	@New Vision Christian Church \nInstagram – @drlukehall & @itsanewvision
URL:https://illumin8.nvcc3.org/event/worship-service-pastoral-appreciation-day/
LOCATION:Sanctuary\, 5320 Phillips Dr\, Morrow\, GA\, United States
END:VEVENT
BEGIN:VEVENT
DTSTART;TZID=America/New_York:20260628T094500
DTEND;TZID=America/New_York:20260628T113000
DTSTAMP:20260422T020649
CREATED:20260125T124827Z
LAST-MODIFIED:20260208T133856Z
UID:53876-1782639900-1782646200@illumin8.nvcc3.org
SUMMARY:Vision Riders Bike Blessing
DESCRIPTION:Group: NVCC \nBlessing the Vision Riders during morning service
URL:https://illumin8.nvcc3.org/event/vision-riders-bike-blessing-7/
END:VEVENT
BEGIN:VEVENT
DTSTART;TZID=America/New_York:20260628T113000
DTEND;TZID=America/New_York:20260628T123000
DTSTAMP:20260422T020649
CREATED:20250821T052048Z
LAST-MODIFIED:20260419T151028Z
UID:52399-1782646200-1782649800@illumin8.nvcc3.org
SUMMARY:Bond & Brew Coffee Co. Available After Worship Service
DESCRIPTION:Group: NVCC \nWe welcome Bond and Brew Coffee after service. They are on site with delicious refreshers and coffees for our visitors and guests while supplies last. You may also purchase refreshers and specialty drinks. 
URL:https://illumin8.nvcc3.org/event/bond-brew-coffee-co-available-after-worship-service-11/
LOCATION:Courtyard\, 5320 Phillips Dr\, Morrow\, GA\, United States
END:VEVENT
BEGIN:VEVENT
DTSTART;TZID=America/New_York:20260630T190000
DTEND;TZID=America/New_York:20260630T200000
DTSTAMP:20260422T020649
CREATED:20260104T111445Z
LAST-MODIFIED:20260111T113509Z
UID:53589-1782846000-1782849600@illumin8.nvcc3.org
SUMMARY:T.N.T. Small Group Bible Study
DESCRIPTION:Group: NVCC \nJoin us for T.N.T. (Tuesday Night Teaching) Bible Study in our smalls groups where we can learn\, disseminate and dig deeper into the Word of God.
URL:https://illumin8.nvcc3.org/event/t-n-t-small-group-bible-study-41/
LOCATION:New Vision Christian Church\, 5320 Phillips Dr\, Morrow\, GA\, United States
END:VEVENT
BEGIN:VEVENT
DTSTART;TZID=America/New_York:20260630T190000
DTEND;TZID=America/New_York:20260630T200000
DTSTAMP:20260422T020649
CREATED:20260118T120813Z
LAST-MODIFIED:20260419T151028Z
UID:53716-1782846000-1782849600@illumin8.nvcc3.org
SUMMARY:T.N.T. Small Group Bible Study
DESCRIPTION:Group: NVCC \nJoin us for T.N.T. (Tuesday Night Teaching) Bible Study in our smalls groups where we can learn\, disseminate and dig deeper into the Word of God.
URL:https://illumin8.nvcc3.org/event/t-n-t-small-group-bible-study-91/
LOCATION:New Vision Christian Church\, 5320 Phillips Dr\, Morrow\, GA\, United States
END:VEVENT
BEGIN:VEVENT
DTSTART;TZID=America/New_York:20260630T190000
DTEND;TZID=America/New_York:20260630T200000
DTSTAMP:20260422T020649
CREATED:20260118T120817Z
LAST-MODIFIED:20260118T120817Z
UID:53717-1782846000-1782849600@illumin8.nvcc3.org
SUMMARY:T.N.T. Small Group Bible Study
DESCRIPTION:Group: NVCC \nJoin us for T.N.T. (Tuesday Night Teaching) Bible Study in our smalls groups where we can learn\, disseminate and dig deeper into the Word of God.
URL:https://illumin8.nvcc3.org/event/t-n-t-small-group-bible-study-92/
LOCATION:New Vision Christian Church\, 5320 Phillips Dr\, Morrow\, GA\, United States
END:VEVENT
BEGIN:VEVENT
DTSTART;TZID=America/New_York:20260701T060000
DTEND;TZID=America/New_York:20260701T061500
DTSTAMP:20260422T020649
CREATED:20250821T052050Z
LAST-MODIFIED:20260419T151028Z
UID:52401-1782885600-1782886500@illumin8.nvcc3.org
SUMMARY:One Voice Prayer
DESCRIPTION:Group: NVCC \nOur weekly One Voice Prayer Call is on FAM Radio every Wednesday morning at 6:00 AM and sermon broadcasts are Sunday mornings at 8:00 AM. Download the FAM Radio app in your App Store or Google Play today! \nPrayer Requests \nEmail your prayer request or praise report at any time to pray@nvcc3.org. We are interceding in prayer for you EVERY DAY!
URL:https://illumin8.nvcc3.org/event/one-voice-prayer-45/
LOCATION:FAM Radio App
END:VEVENT
BEGIN:VEVENT
DTSTART;TZID=America/New_York:20260702T183000
DTEND;TZID=America/New_York:20260702T193000
DTSTAMP:20260422T020649
CREATED:20250911T055848Z
LAST-MODIFIED:20260111T113525Z
UID:52896-1783017000-1783020600@illumin8.nvcc3.org
SUMMARY:Catechism Class
DESCRIPTION:Group: NVCC \nRegistration is now CLOSED for this class.
URL:https://illumin8.nvcc3.org/event/catechism-class-22/
LOCATION:Sanctuary\, 5320 Phillips Dr\, Morrow\, GA\, United States
END:VEVENT
BEGIN:VEVENT
DTSTART;TZID=America/New_York:20260702T183000
DTEND;TZID=America/New_York:20260702T193000
DTSTAMP:20260422T020649
CREATED:20260118T120822Z
LAST-MODIFIED:20260419T151028Z
UID:53718-1783017000-1783020600@illumin8.nvcc3.org
SUMMARY:Catechism Class
DESCRIPTION:Group: NVCC \nRegistration is now CLOSED for this class.
URL:https://illumin8.nvcc3.org/event/catechism-class-45/
LOCATION:Sanctuary\, 5320 Phillips Dr\, Morrow\, GA\, United States
END:VEVENT
BEGIN:VEVENT
DTSTART;TZID=America/New_York:20260703T180000
DTEND;TZID=America/New_York:20260703T200000
DTSTAMP:20260422T020649
CREATED:20250821T052050Z
LAST-MODIFIED:20260419T151029Z
UID:52402-1783101600-1783108800@illumin8.nvcc3.org
SUMMARY:B3 First Friday Feeding
DESCRIPTION:Group: Blessed to Be a Blessing (B3) \nJoin the B3 Ministry as we serve those in need.
URL:https://illumin8.nvcc3.org/event/b3-first-friday-feeding-11/
LOCATION:Cracker Barrel RV and Truck Parking Lot\, 1458 Southlake Plaza Dr\, Morrow\, GA\, United States
END:VEVENT
BEGIN:VEVENT
DTSTART;TZID=America/New_York:20260704T080000
DTEND;TZID=America/New_York:20260704T090000
DTSTAMP:20260422T020649
CREATED:20250821T052051Z
LAST-MODIFIED:20260419T151029Z
UID:52403-1783152000-1783155600@illumin8.nvcc3.org
SUMMARY:Corporate Prayer
DESCRIPTION:Group: NVCC \nCorporate Prayer is Saturday morning\, September 7th at 8:00 in the Sanctuary. Come be with us in prayer knowing that god can and will answer our prayers.
URL:https://illumin8.nvcc3.org/event/corporate-prayer-11/
LOCATION:Sanctuary\, 5320 Phillips Dr\, Morrow\, GA\, United States
END:VEVENT
BEGIN:VEVENT
DTSTART;TZID=America/New_York:20260704T093000
DTEND;TZID=America/New_York:20260704T121500
DTSTAMP:20260422T020649
CREATED:20250925T062408Z
LAST-MODIFIED:20260419T151029Z
UID:52978-1783157400-1783167300@illumin8.nvcc3.org
SUMMARY:Heart of it All Meeting
DESCRIPTION:Group: NVCC \nStruggling with addiction? You are not alone. Join us for “In the Heart of it All\,” a support group open to anyone facing any addiction every Saturday 10:30 am – 12:00 noon. This is a safe\, judgment-free space where you can find support\, encouragement\, and hope. You don’t have to walk this journey alone.
URL:https://illumin8.nvcc3.org/event/heart-of-it-all-meeting-90/
LOCATION:New Vision Christian Church\, 5320 Phillips Dr\, Morrow\, GA\, United States
END:VEVENT
BEGIN:VEVENT
DTSTART;TZID=America/New_York:20260704T100000
DTEND;TZID=America/New_York:20260704T120000
DTSTAMP:20260422T020649
CREATED:20250821T052054Z
LAST-MODIFIED:20250918T061538Z
UID:52414-1783159200-1783166400@illumin8.nvcc3.org
SUMMARY:Heart of it All Meeting
DESCRIPTION:Group: NVCC \nStruggling with addiction? You are not alone. Join us for “In the Heart of it All\,” a support group open to anyone facing any addiction every Saturday 10:30 am – 12:00 noon. This is a safe\, judgment-free space where you can find support\, encouragement\, and hope. You don’t have to walk this journey alone.
URL:https://illumin8.nvcc3.org/event/heart-of-it-all-meeting-47/
LOCATION:Small Lobby – Student Wing\, 5320 Phillips Dr\, Morrow\, GA\, United States
END:VEVENT
BEGIN:VEVENT
DTSTART;TZID=America/New_York:20260705T080000
DTEND;TZID=America/New_York:20260705T090000
DTSTAMP:20260422T020649
CREATED:20250821T052055Z
LAST-MODIFIED:20260419T151029Z
UID:52415-1783238400-1783242000@illumin8.nvcc3.org
SUMMARY:Coffee & Conversation (Sunday School)
DESCRIPTION:Group: NVCC \nJoin us every 1st Sunday for coffee and discussion on God’s Word.
URL:https://illumin8.nvcc3.org/event/coffee-conversation-sunday-school-11/
LOCATION:ECR Multi-Purpose Room\, 5320 Phillips Dr\, Morrow\, GA\, United States
END:VEVENT
BEGIN:VEVENT
DTSTART;TZID=America/New_York:20260705T080000
DTEND;TZID=America/New_York:20260705T090000
DTSTAMP:20260422T020649
CREATED:20250828T052956Z
LAST-MODIFIED:20260419T151029Z
UID:52843-1783238400-1783242000@illumin8.nvcc3.org
SUMMARY:Morning Manna (Sunday School)
DESCRIPTION:Group: NVCC \nJoin us every Sunday as we grasp an understanding of God through His Word and equip you for Kingdom living.
URL:https://illumin8.nvcc3.org/event/morning-manna-sunday-school-43/
LOCATION:New Vision Christian Church\, 5320 Phillips Dr\, Morrow\, GA\, United States
END:VEVENT
BEGIN:VEVENT
DTSTART;TZID=America/New_York:20260705T093000
DTEND;TZID=America/New_York:20260705T113000
DTSTAMP:20260422T020649
CREATED:20250828T052957Z
LAST-MODIFIED:20260419T151029Z
UID:52846-1783243800-1783251000@illumin8.nvcc3.org
SUMMARY:Illumin8 Student Ministry Service
DESCRIPTION:Group: Illumin8 (Staff) \nAll youth are welcome!
URL:https://illumin8.nvcc3.org/event/illumin8-student-ministry-service-46/
LOCATION:NVCC – Student Wing (New Vision Christian Church)\, 5320 Phillips Dr\, Morrow\, GA\, United States
END:VEVENT
BEGIN:VEVENT
DTSTART;TZID=America/New_York:20260705T094500
DTEND;TZID=America/New_York:20260705T113000
DTSTAMP:20260422T020649
CREATED:20250828T052957Z
LAST-MODIFIED:20260419T151029Z
UID:52845-1783244700-1783251000@illumin8.nvcc3.org
SUMMARY:Worship Service
DESCRIPTION:Group: NVCC \nJoin us for Worship Service every week! \nYoutube – @Luke S. Hall \nFacebook –	@New Vision Christian Church \nInstagram – @drlukehall & @itsanewvision
URL:https://illumin8.nvcc3.org/event/worship-service-47/
LOCATION:Sanctuary\, 5320 Phillips Dr\, Morrow\, GA\, United States
END:VEVENT
BEGIN:VEVENT
DTSTART;TZID=America/New_York:20260705T094500
DTEND;TZID=America/New_York:20260705T113000
DTSTAMP:20260422T020649
CREATED:20260125T124852Z
LAST-MODIFIED:20260208T133935Z
UID:53881-1783244700-1783251000@illumin8.nvcc3.org
SUMMARY:Vision Riders Bike Blessing
DESCRIPTION:Group: NVCC \nBlessing the Vision Riders during morning service
URL:https://illumin8.nvcc3.org/event/vision-riders-bike-blessing-8/
END:VEVENT
BEGIN:VEVENT
DTSTART;TZID=America/New_York:20260707T190000
DTEND;TZID=America/New_York:20260707T200000
DTSTAMP:20260422T020649
CREATED:20260104T111534Z
LAST-MODIFIED:20260111T113553Z
UID:53592-1783450800-1783454400@illumin8.nvcc3.org
SUMMARY:T.N.T. Small Group Bible Study
DESCRIPTION:Group: NVCC \nJoin us for T.N.T. (Tuesday Night Teaching) Bible Study in our smalls groups where we can learn\, disseminate and dig deeper into the Word of God.
URL:https://illumin8.nvcc3.org/event/t-n-t-small-group-bible-study-42/
LOCATION:New Vision Christian Church\, 5320 Phillips Dr\, Morrow\, GA\, United States
END:VEVENT
BEGIN:VEVENT
DTSTART;TZID=America/New_York:20260707T190000
DTEND;TZID=America/New_York:20260707T200000
DTSTAMP:20260422T020649
CREATED:20260118T120849Z
LAST-MODIFIED:20260419T151030Z
UID:53720-1783450800-1783454400@illumin8.nvcc3.org
SUMMARY:T.N.T. Small Group Bible Study
DESCRIPTION:Group: NVCC \nJoin us for T.N.T. (Tuesday Night Teaching) Bible Study in our smalls groups where we can learn\, disseminate and dig deeper into the Word of God.
URL:https://illumin8.nvcc3.org/event/t-n-t-small-group-bible-study-93/
LOCATION:New Vision Christian Church\, 5320 Phillips Dr\, Morrow\, GA\, United States
END:VEVENT
BEGIN:VEVENT
DTSTART;TZID=America/New_York:20260707T190000
DTEND;TZID=America/New_York:20260707T200000
DTSTAMP:20260422T020649
CREATED:20260118T120903Z
LAST-MODIFIED:20260118T120903Z
UID:53721-1783450800-1783454400@illumin8.nvcc3.org
SUMMARY:T.N.T. Small Group Bible Study
DESCRIPTION:Group: NVCC \nJoin us for T.N.T. (Tuesday Night Teaching) Bible Study in our smalls groups where we can learn\, disseminate and dig deeper into the Word of God.
URL:https://illumin8.nvcc3.org/event/t-n-t-small-group-bible-study-94/
LOCATION:New Vision Christian Church\, 5320 Phillips Dr\, Morrow\, GA\, United States
END:VEVENT
BEGIN:VEVENT
DTSTART;TZID=America/New_York:20260708T060000
DTEND;TZID=America/New_York:20260708T061500
DTSTAMP:20260422T020649
CREATED:20250828T052958Z
LAST-MODIFIED:20260419T151030Z
UID:52847-1783490400-1783491300@illumin8.nvcc3.org
SUMMARY:One Voice Prayer
DESCRIPTION:Group: NVCC \nOur weekly One Voice Prayer Call is on FAM Radio every Wednesday morning at 6:00 AM and sermon broadcasts are Sunday mornings at 8:00 AM. Download the FAM Radio app in your App Store or Google Play today! \nPrayer Requests \nEmail your prayer request or praise report at any time to pray@nvcc3.org. We are interceding in prayer for you EVERY DAY!
URL:https://illumin8.nvcc3.org/event/one-voice-prayer-46/
LOCATION:FAM Radio App
END:VEVENT
BEGIN:VEVENT
DTSTART;TZID=America/New_York:20260711T093000
DTEND;TZID=America/New_York:20260711T121500
DTSTAMP:20260422T020649
CREATED:20250925T062410Z
LAST-MODIFIED:20260419T151030Z
UID:52979-1783762200-1783772100@illumin8.nvcc3.org
SUMMARY:Heart of it All Meeting
DESCRIPTION:Group: NVCC \nStruggling with addiction? You are not alone. Join us for “In the Heart of it All\,” a support group open to anyone facing any addiction every Saturday 10:30 am – 12:00 noon. This is a safe\, judgment-free space where you can find support\, encouragement\, and hope. You don’t have to walk this journey alone.
URL:https://illumin8.nvcc3.org/event/heart-of-it-all-meeting-91/
LOCATION:New Vision Christian Church\, 5320 Phillips Dr\, Morrow\, GA\, United States
END:VEVENT
END:VCALENDAR