BEGIN:VCALENDAR
VERSION:2.0
PRODID:-//ILLUMIN8 - ECPv6.15.20//NONSGML v1.0//EN
CALSCALE:GREGORIAN
METHOD:PUBLISH
X-WR-CALNAME:ILLUMIN8
X-ORIGINAL-URL:https://illumin8.nvcc3.org
X-WR-CALDESC:Events for ILLUMIN8
REFRESH-INTERVAL;VALUE=DURATION:PT1H
X-Robots-Tag:noindex
X-PUBLISHED-TTL:PT1H
BEGIN:VTIMEZONE
TZID:America/New_York
BEGIN:DAYLIGHT
TZOFFSETFROM:-0500
TZOFFSETTO:-0400
TZNAME:EDT
DTSTART:20250309T070000
END:DAYLIGHT
BEGIN:STANDARD
TZOFFSETFROM:-0400
TZOFFSETTO:-0500
TZNAME:EST
DTSTART:20251102T060000
END:STANDARD
BEGIN:DAYLIGHT
TZOFFSETFROM:-0500
TZOFFSETTO:-0400
TZNAME:EDT
DTSTART:20260308T070000
END:DAYLIGHT
BEGIN:STANDARD
TZOFFSETFROM:-0400
TZOFFSETTO:-0500
TZNAME:EST
DTSTART:20261101T060000
END:STANDARD
BEGIN:DAYLIGHT
TZOFFSETFROM:-0500
TZOFFSETTO:-0400
TZNAME:EDT
DTSTART:20270314T070000
END:DAYLIGHT
BEGIN:STANDARD
TZOFFSETFROM:-0400
TZOFFSETTO:-0500
TZNAME:EST
DTSTART:20271107T060000
END:STANDARD
END:VTIMEZONE
BEGIN:VEVENT
DTSTART;TZID=America/New_York:20261011T080000
DTEND;TZID=America/New_York:20261011T090000
DTSTAMP:20260422T221617
CREATED:20251113T071833Z
LAST-MODIFIED:20260419T151046Z
UID:53421-1791705600-1791709200@illumin8.nvcc3.org
SUMMARY:Morning Manna (Sunday School)
DESCRIPTION:Group: NVCC \nJoin us every Sunday as we grasp an understanding of God through His Word and equip you for Kingdom living.
URL:https://illumin8.nvcc3.org/event/morning-manna-sunday-school-57/
LOCATION:New Vision Christian Church\, 5320 Phillips Dr\, Morrow\, GA\, United States
END:VEVENT
BEGIN:VEVENT
DTSTART;TZID=America/New_York:20261010T093000
DTEND;TZID=America/New_York:20261010T121500
DTSTAMP:20260422T221617
CREATED:20251228T105330Z
LAST-MODIFIED:20260419T151046Z
UID:53481-1791624600-1791634500@illumin8.nvcc3.org
SUMMARY:Heart of it All Meeting
DESCRIPTION:Group: NVCC \nStruggling with addiction? You are not alone. Join us for “In the Heart of it All\,” a support group open to anyone facing any addiction every Saturday 10:30 am – 12:00 noon. This is a safe\, judgment-free space where you can find support\, encouragement\, and hope. You don’t have to walk this journey alone.
URL:https://illumin8.nvcc3.org/event/heart-of-it-all-meeting-5/
LOCATION:New Vision Christian Church\, 5320 Phillips Dr\, Morrow\, GA\, United States
END:VEVENT
BEGIN:VEVENT
DTSTART;TZID=America/New_York:20261008T183000
DTEND;TZID=America/New_York:20261008T193000
DTSTAMP:20260422T221617
CREATED:20260118T121739Z
LAST-MODIFIED:20260419T151046Z
UID:53759-1791484200-1791487800@illumin8.nvcc3.org
SUMMARY:Catechism Class
DESCRIPTION:Group: NVCC \nRegistration is now CLOSED for this class.
URL:https://illumin8.nvcc3.org/event/catechism-class-55/
LOCATION:Sanctuary\, 5320 Phillips Dr\, Morrow\, GA\, United States
END:VEVENT
BEGIN:VEVENT
DTSTART;TZID=America/New_York:20261008T183000
DTEND;TZID=America/New_York:20261008T193000
DTSTAMP:20260422T221617
CREATED:20251113T071833Z
LAST-MODIFIED:20260111T114349Z
UID:53420-1791484200-1791487800@illumin8.nvcc3.org
SUMMARY:Catechism Class
DESCRIPTION:Group: NVCC \nRegistration is now CLOSED for this class.
URL:https://illumin8.nvcc3.org/event/catechism-class-29/
LOCATION:Sanctuary\, 5320 Phillips Dr\, Morrow\, GA\, United States
END:VEVENT
BEGIN:VEVENT
DTSTART;TZID=America/New_York:20261007T060000
DTEND;TZID=America/New_York:20261007T061500
DTSTAMP:20260422T221617
CREATED:20251106T070833Z
LAST-MODIFIED:20260419T151045Z
UID:53364-1791352800-1791353700@illumin8.nvcc3.org
SUMMARY:One Voice Prayer
DESCRIPTION:Group: NVCC \nOur weekly One Voice Prayer Call is on FAM Radio every Wednesday morning at 6:00 AM and sermon broadcasts are Sunday mornings at 8:00 AM. Download the FAM Radio app in your App Store or Google Play today! \nPrayer Requests \nEmail your prayer request or praise report at any time to pray@nvcc3.org. We are interceding in prayer for you EVERY DAY!
URL:https://illumin8.nvcc3.org/event/one-voice-prayer-59/
LOCATION:FAM Radio App
END:VEVENT
BEGIN:VEVENT
DTSTART;TZID=America/New_York:20261006T190000
DTEND;TZID=America/New_York:20261006T200000
DTSTAMP:20260422T221617
CREATED:20260118T121733Z
LAST-MODIFIED:20260419T151045Z
UID:53758-1791313200-1791316800@illumin8.nvcc3.org
SUMMARY:T.N.T. Small Group Bible Study
DESCRIPTION:Group: NVCC \nJoin us for T.N.T. (Tuesday Night Teaching) Bible Study in our smalls groups where we can learn\, disseminate and dig deeper into the Word of God.
URL:https://illumin8.nvcc3.org/event/t-n-t-small-group-bible-study-114/
LOCATION:New Vision Christian Church\, 5320 Phillips Dr\, Morrow\, GA\, United States
END:VEVENT
BEGIN:VEVENT
DTSTART;TZID=America/New_York:20261006T190000
DTEND;TZID=America/New_York:20261006T200000
DTSTAMP:20260422T221617
CREATED:20260104T112207Z
LAST-MODIFIED:20260111T114338Z
UID:53616-1791313200-1791316800@illumin8.nvcc3.org
SUMMARY:T.N.T. Small Group Bible Study
DESCRIPTION:Group: NVCC \nJoin us for T.N.T. (Tuesday Night Teaching) Bible Study in our smalls groups where we can learn\, disseminate and dig deeper into the Word of God.
URL:https://illumin8.nvcc3.org/event/t-n-t-small-group-bible-study-55/
LOCATION:New Vision Christian Church\, 5320 Phillips Dr\, Morrow\, GA\, United States
END:VEVENT
BEGIN:VEVENT
DTSTART;TZID=America/New_York:20261004T094500
DTEND;TZID=America/New_York:20261004T113000
DTSTAMP:20260422T221617
CREATED:20251106T070832Z
LAST-MODIFIED:20260419T151045Z
UID:53362-1791107100-1791113400@illumin8.nvcc3.org
SUMMARY:Worship Service
DESCRIPTION:Group: NVCC \nJoin us for Worship Service every week! \nYoutube – @Luke S. Hall \nFacebook –	@New Vision Christian Church \nInstagram – @drlukehall & @itsanewvision
URL:https://illumin8.nvcc3.org/event/worship-service-60/
LOCATION:Sanctuary\, 5320 Phillips Dr\, Morrow\, GA\, United States
END:VEVENT
BEGIN:VEVENT
DTSTART;TZID=America/New_York:20261004T093000
DTEND;TZID=America/New_York:20261004T113000
DTSTAMP:20260422T221617
CREATED:20251106T070833Z
LAST-MODIFIED:20260419T151045Z
UID:53363-1791106200-1791113400@illumin8.nvcc3.org
SUMMARY:Illumin8 Student Ministry Service
DESCRIPTION:Group: Illumin8 (Staff) \nAll youth are welcome!
URL:https://illumin8.nvcc3.org/event/illumin8-student-ministry-service-59/
LOCATION:NVCC – Student Wing (New Vision Christian Church)\, 5320 Phillips Dr\, Morrow\, GA\, United States
END:VEVENT
BEGIN:VEVENT
DTSTART;TZID=America/New_York:20261004T080000
DTEND;TZID=America/New_York:20261004T090000
DTSTAMP:20260422T221617
CREATED:20251106T070832Z
LAST-MODIFIED:20260419T151045Z
UID:53361-1791100800-1791104400@illumin8.nvcc3.org
SUMMARY:Morning Manna (Sunday School)
DESCRIPTION:Group: NVCC \nJoin us every Sunday as we grasp an understanding of God through His Word and equip you for Kingdom living.
URL:https://illumin8.nvcc3.org/event/morning-manna-sunday-school-56/
LOCATION:New Vision Christian Church\, 5320 Phillips Dr\, Morrow\, GA\, United States
END:VEVENT
BEGIN:VEVENT
DTSTART;TZID=America/New_York:20261004T080000
DTEND;TZID=America/New_York:20261004T090000
DTSTAMP:20260422T221617
CREATED:20251106T070832Z
LAST-MODIFIED:20260419T151045Z
UID:53360-1791100800-1791104400@illumin8.nvcc3.org
SUMMARY:Coffee & Conversation (Sunday School)
DESCRIPTION:Group: NVCC \nJoin us every 1st Sunday for coffee and discussion on God’s Word.
URL:https://illumin8.nvcc3.org/event/coffee-conversation-sunday-school-14/
LOCATION:ECR Multi-Purpose Room\, 5320 Phillips Dr\, Morrow\, GA\, United States
END:VEVENT
BEGIN:VEVENT
DTSTART;TZID=America/New_York:20261003T093000
DTEND;TZID=America/New_York:20261003T121500
DTSTAMP:20260422T221617
CREATED:20251211T080123Z
LAST-MODIFIED:20260419T151045Z
UID:53464-1791019800-1791029700@illumin8.nvcc3.org
SUMMARY:Heart of it All Meeting
DESCRIPTION:Group: NVCC \nStruggling with addiction? You are not alone. Join us for “In the Heart of it All\,” a support group open to anyone facing any addiction every Saturday 10:30 am – 12:00 noon. This is a safe\, judgment-free space where you can find support\, encouragement\, and hope. You don’t have to walk this journey alone.
URL:https://illumin8.nvcc3.org/event/heart-of-it-all-meeting-99/
LOCATION:New Vision Christian Church\, 5320 Phillips Dr\, Morrow\, GA\, United States
END:VEVENT
BEGIN:VEVENT
DTSTART;TZID=America/New_York:20261003T083000
DTEND;TZID=America/New_York:20261003T100000
DTSTAMP:20260422T221617
CREATED:20260215T135940Z
LAST-MODIFIED:20260419T151044Z
UID:53990-1791016200-1791021600@illumin8.nvcc3.org
SUMMARY:New Members' Orientation Class
DESCRIPTION:Group: NVCC
URL:https://illumin8.nvcc3.org/event/new-members-orientation-class-3/
LOCATION:ECR Multi-Purpose Room\, 5320 Phillips Dr\, Morrow\, GA\, United States
END:VEVENT
BEGIN:VEVENT
DTSTART;TZID=America/New_York:20261003T080000
DTEND;TZID=America/New_York:20261003T090000
DTSTAMP:20260422T221617
CREATED:20251106T070831Z
LAST-MODIFIED:20260419T151044Z
UID:53359-1791014400-1791018000@illumin8.nvcc3.org
SUMMARY:Corporate Prayer
DESCRIPTION:Group: NVCC \nCorporate Prayer is Saturday morning\, September 7th at 8:00 in the Sanctuary. Come be with us in prayer knowing that god can and will answer our prayers.
URL:https://illumin8.nvcc3.org/event/corporate-prayer-14/
LOCATION:Sanctuary\, 5320 Phillips Dr\, Morrow\, GA\, United States
END:VEVENT
BEGIN:VEVENT
DTSTART;TZID=America/New_York:20261002T180000
DTEND;TZID=America/New_York:20261002T200000
DTSTAMP:20260422T221617
CREATED:20251106T070831Z
LAST-MODIFIED:20260419T151044Z
UID:53358-1790964000-1790971200@illumin8.nvcc3.org
SUMMARY:B3 First Friday Feeding
DESCRIPTION:Group: Blessed to Be a Blessing (B3) \nJoin the B3 Ministry as we serve those in need.
URL:https://illumin8.nvcc3.org/event/b3-first-friday-feeding-14/
LOCATION:Cracker Barrel RV and Truck Parking Lot\, 1458 Southlake Plaza Dr\, Morrow\, GA\, United States
END:VEVENT
BEGIN:VEVENT
DTSTART;TZID=America/New_York:20260930T060000
DTEND;TZID=America/New_York:20260930T061500
DTSTAMP:20260422T221617
CREATED:20251106T070825Z
LAST-MODIFIED:20260419T151044Z
UID:53357-1790748000-1790748900@illumin8.nvcc3.org
SUMMARY:One Voice Prayer
DESCRIPTION:Group: NVCC \nOur weekly One Voice Prayer Call is on FAM Radio every Wednesday morning at 6:00 AM and sermon broadcasts are Sunday mornings at 8:00 AM. Download the FAM Radio app in your App Store or Google Play today! \nPrayer Requests \nEmail your prayer request or praise report at any time to pray@nvcc3.org. We are interceding in prayer for you EVERY DAY!
URL:https://illumin8.nvcc3.org/event/one-voice-prayer-58/
LOCATION:FAM Radio App
END:VEVENT
BEGIN:VEVENT
DTSTART;TZID=America/New_York:20260929T190000
DTEND;TZID=America/New_York:20260929T200000
DTSTAMP:20260422T221617
CREATED:20260118T121650Z
LAST-MODIFIED:20260419T151044Z
UID:53756-1790708400-1790712000@illumin8.nvcc3.org
SUMMARY:T.N.T. Small Group Bible Study
DESCRIPTION:Group: NVCC \nJoin us for T.N.T. (Tuesday Night Teaching) Bible Study in our smalls groups where we can learn\, disseminate and dig deeper into the Word of God.
URL:https://illumin8.nvcc3.org/event/t-n-t-small-group-bible-study-113/
LOCATION:New Vision Christian Church\, 5320 Phillips Dr\, Morrow\, GA\, United States
END:VEVENT
BEGIN:VEVENT
DTSTART;TZID=America/New_York:20260929T190000
DTEND;TZID=America/New_York:20260929T200000
DTSTAMP:20260422T221617
CREATED:20260104T112120Z
LAST-MODIFIED:20260111T114257Z
UID:53613-1790708400-1790712000@illumin8.nvcc3.org
SUMMARY:T.N.T. Small Group Bible Study
DESCRIPTION:Group: NVCC \nJoin us for T.N.T. (Tuesday Night Teaching) Bible Study in our smalls groups where we can learn\, disseminate and dig deeper into the Word of God.
URL:https://illumin8.nvcc3.org/event/t-n-t-small-group-bible-study-54/
LOCATION:New Vision Christian Church\, 5320 Phillips Dr\, Morrow\, GA\, United States
END:VEVENT
BEGIN:VEVENT
DTSTART;TZID=America/New_York:20260927T113000
DTEND;TZID=America/New_York:20260927T123000
DTSTAMP:20260422T221617
CREATED:20251106T070825Z
LAST-MODIFIED:20260419T151044Z
UID:53354-1790508600-1790512200@illumin8.nvcc3.org
SUMMARY:Bond & Brew Coffee Co. Available After Worship Service
DESCRIPTION:Group: NVCC \nWe welcome Bond and Brew Coffee after service. They are on site with delicious refreshers and coffees for our visitors and guests while supplies last. You may also purchase refreshers and specialty drinks. 
URL:https://illumin8.nvcc3.org/event/bond-brew-coffee-co-available-after-worship-service-14/
LOCATION:Courtyard\, 5320 Phillips Dr\, Morrow\, GA\, United States
END:VEVENT
BEGIN:VEVENT
DTSTART;TZID=America/New_York:20260927T094500
DTEND;TZID=America/New_York:20260927T113000
DTSTAMP:20260422T221617
CREATED:20260125T125305Z
LAST-MODIFIED:20260208T134725Z
UID:53913-1790502300-1790508600@illumin8.nvcc3.org
SUMMARY:Vision Riders Bike Blessing
DESCRIPTION:Group: NVCC \nBlessing the Vision Riders during morning service
URL:https://illumin8.nvcc3.org/event/vision-riders-bike-blessing-20/
LOCATION:GA
END:VEVENT
BEGIN:VEVENT
DTSTART;TZID=America/New_York:20260927T094500
DTEND;TZID=America/New_York:20260927T113000
DTSTAMP:20260422T221617
CREATED:20251106T070825Z
LAST-MODIFIED:20260419T151043Z
UID:53355-1790502300-1790508600@illumin8.nvcc3.org
SUMMARY:Worship Service
DESCRIPTION:Group: NVCC \nJoin us for Worship Service every week! \nYoutube – @Luke S. Hall \nFacebook –	@New Vision Christian Church \nInstagram – @drlukehall & @itsanewvision
URL:https://illumin8.nvcc3.org/event/worship-service-59/
LOCATION:Sanctuary\, 5320 Phillips Dr\, Morrow\, GA\, United States
END:VEVENT
BEGIN:VEVENT
DTSTART;TZID=America/New_York:20260927T093000
DTEND;TZID=America/New_York:20260927T113000
DTSTAMP:20260422T221617
CREATED:20251106T070825Z
LAST-MODIFIED:20260419T151044Z
UID:53356-1790501400-1790508600@illumin8.nvcc3.org
SUMMARY:Illumin8 Student Ministry Service
DESCRIPTION:Group: Illumin8 (Staff) \nAll youth are welcome!
URL:https://illumin8.nvcc3.org/event/illumin8-student-ministry-service-58/
LOCATION:NVCC – Student Wing (New Vision Christian Church)\, 5320 Phillips Dr\, Morrow\, GA\, United States
END:VEVENT
BEGIN:VEVENT
DTSTART;TZID=America/New_York:20260927T080000
DTEND;TZID=America/New_York:20260927T090000
DTSTAMP:20260422T221617
CREATED:20251106T070824Z
LAST-MODIFIED:20260419T151043Z
UID:53353-1790496000-1790499600@illumin8.nvcc3.org
SUMMARY:Morning Manna (Sunday School)
DESCRIPTION:Group: NVCC \nJoin us every Sunday as we grasp an understanding of God through His Word and equip you for Kingdom living.
URL:https://illumin8.nvcc3.org/event/morning-manna-sunday-school-55/
LOCATION:New Vision Christian Church\, 5320 Phillips Dr\, Morrow\, GA\, United States
END:VEVENT
BEGIN:VEVENT
DTSTART;TZID=America/New_York:20260926T093000
DTEND;TZID=America/New_York:20260926T121500
DTSTAMP:20260422T221617
CREATED:20251211T080106Z
LAST-MODIFIED:20260419T151043Z
UID:53463-1790415000-1790424900@illumin8.nvcc3.org
SUMMARY:Heart of it All Meeting
DESCRIPTION:Group: NVCC \nStruggling with addiction? You are not alone. Join us for “In the Heart of it All\,” a support group open to anyone facing any addiction every Saturday 10:30 am – 12:00 noon. This is a safe\, judgment-free space where you can find support\, encouragement\, and hope. You don’t have to walk this journey alone.
URL:https://illumin8.nvcc3.org/event/heart-of-it-all-meeting-4/
LOCATION:New Vision Christian Church\, 5320 Phillips Dr\, Morrow\, GA\, United States
END:VEVENT
BEGIN:VEVENT
DTSTART;TZID=America/New_York:20260924T183000
DTEND;TZID=America/New_York:20260924T193000
DTSTAMP:20260422T221617
CREATED:20260118T121631Z
LAST-MODIFIED:20260118T121631Z
UID:53755-1790274600-1790278200@illumin8.nvcc3.org
SUMMARY:Catechism Class
DESCRIPTION:Group: NVCC \nRegistration is now CLOSED for this class.
URL:https://illumin8.nvcc3.org/event/catechism-class-54/
LOCATION:Sanctuary\, 5320 Phillips Dr\, Morrow\, GA\, United States
END:VEVENT
BEGIN:VEVENT
DTSTART;TZID=America/New_York:20260924T183000
DTEND;TZID=America/New_York:20260924T193000
DTSTAMP:20260422T221617
CREATED:20260118T121615Z
LAST-MODIFIED:20260419T151043Z
UID:53753-1790274600-1790278200@illumin8.nvcc3.org
SUMMARY:Catechism Class
DESCRIPTION:Group: NVCC \nRegistration is now CLOSED for this class.
URL:https://illumin8.nvcc3.org/event/catechism-class-53/
LOCATION:Sanctuary\, 5320 Phillips Dr\, Morrow\, GA\, United States
END:VEVENT
BEGIN:VEVENT
DTSTART;TZID=America/New_York:20260924T183000
DTEND;TZID=America/New_York:20260924T193000
DTSTAMP:20260422T221617
CREATED:20251106T070824Z
LAST-MODIFIED:20260111T114232Z
UID:53352-1790274600-1790278200@illumin8.nvcc3.org
SUMMARY:Catechism Class
DESCRIPTION:Group: NVCC \nRegistration is now CLOSED for this class.
URL:https://illumin8.nvcc3.org/event/catechism-class-28/
LOCATION:Sanctuary\, 5320 Phillips Dr\, Morrow\, GA\, United States
END:VEVENT
BEGIN:VEVENT
DTSTART;TZID=America/New_York:20260923T060000
DTEND;TZID=America/New_York:20260923T061500
DTSTAMP:20260422T221617
CREATED:20251106T070823Z
LAST-MODIFIED:20260419T151043Z
UID:53351-1790143200-1790144100@illumin8.nvcc3.org
SUMMARY:One Voice Prayer
DESCRIPTION:Group: NVCC \nOur weekly One Voice Prayer Call is on FAM Radio every Wednesday morning at 6:00 AM and sermon broadcasts are Sunday mornings at 8:00 AM. Download the FAM Radio app in your App Store or Google Play today! \nPrayer Requests \nEmail your prayer request or praise report at any time to pray@nvcc3.org. We are interceding in prayer for you EVERY DAY!
URL:https://illumin8.nvcc3.org/event/one-voice-prayer-57/
LOCATION:FAM Radio App
END:VEVENT
BEGIN:VEVENT
DTSTART;TZID=America/New_York:20260922T190000
DTEND;TZID=America/New_York:20260922T200000
DTSTAMP:20260422T221617
CREATED:20260118T121605Z
LAST-MODIFIED:20260419T151043Z
UID:53752-1790103600-1790107200@illumin8.nvcc3.org
SUMMARY:T.N.T. Small Group Bible Study
DESCRIPTION:Group: NVCC \nJoin us for T.N.T. (Tuesday Night Teaching) Bible Study in our smalls groups where we can learn\, disseminate and dig deeper into the Word of God.
URL:https://illumin8.nvcc3.org/event/t-n-t-small-group-bible-study-112/
LOCATION:New Vision Christian Church\, 5320 Phillips Dr\, Morrow\, GA\, United States
END:VEVENT
BEGIN:VEVENT
DTSTART;TZID=America/New_York:20260922T190000
DTEND;TZID=America/New_York:20260922T200000
DTSTAMP:20260422T221617
CREATED:20260104T112058Z
LAST-MODIFIED:20260111T114224Z
UID:53612-1790103600-1790107200@illumin8.nvcc3.org
SUMMARY:T.N.T. Small Group Bible Study
DESCRIPTION:Group: NVCC \nJoin us for T.N.T. (Tuesday Night Teaching) Bible Study in our smalls groups where we can learn\, disseminate and dig deeper into the Word of God.
URL:https://illumin8.nvcc3.org/event/t-n-t-small-group-bible-study-53/
LOCATION:New Vision Christian Church\, 5320 Phillips Dr\, Morrow\, GA\, United States
END:VEVENT
END:VCALENDAR