BEGIN:VCALENDAR
VERSION:2.0
PRODID:-//ILLUMIN8 - ECPv6.15.20//NONSGML v1.0//EN
CALSCALE:GREGORIAN
METHOD:PUBLISH
X-ORIGINAL-URL:https://illumin8.nvcc3.org
X-WR-CALDESC:Events for ILLUMIN8
REFRESH-INTERVAL;VALUE=DURATION:PT1H
X-Robots-Tag:noindex
X-PUBLISHED-TTL:PT1H
BEGIN:VTIMEZONE
TZID:America/New_York
BEGIN:DAYLIGHT
TZOFFSETFROM:-0500
TZOFFSETTO:-0400
TZNAME:EDT
DTSTART:20250309T070000
END:DAYLIGHT
BEGIN:STANDARD
TZOFFSETFROM:-0400
TZOFFSETTO:-0500
TZNAME:EST
DTSTART:20251102T060000
END:STANDARD
BEGIN:DAYLIGHT
TZOFFSETFROM:-0500
TZOFFSETTO:-0400
TZNAME:EDT
DTSTART:20260308T070000
END:DAYLIGHT
BEGIN:STANDARD
TZOFFSETFROM:-0400
TZOFFSETTO:-0500
TZNAME:EST
DTSTART:20261101T060000
END:STANDARD
BEGIN:DAYLIGHT
TZOFFSETFROM:-0500
TZOFFSETTO:-0400
TZNAME:EDT
DTSTART:20270314T070000
END:DAYLIGHT
BEGIN:STANDARD
TZOFFSETFROM:-0400
TZOFFSETTO:-0500
TZNAME:EST
DTSTART:20271107T060000
END:STANDARD
END:VTIMEZONE
BEGIN:VEVENT
DTSTART;TZID=America/New_York:20260607T093000
DTEND;TZID=America/New_York:20260607T113000
DTSTAMP:20260422T003641
CREATED:20250821T052039Z
LAST-MODIFIED:20260419T151025Z
UID:52384-1780824600-1780831800@illumin8.nvcc3.org
SUMMARY:Illumin8 Student Ministry Service
DESCRIPTION:Group: Illumin8 (Staff) \nAll youth are welcome!
URL:https://illumin8.nvcc3.org/event/illumin8-student-ministry-service-42/
LOCATION:NVCC – Student Wing (New Vision Christian Church)\, 5320 Phillips Dr\, Morrow\, GA\, United States
END:VEVENT
BEGIN:VEVENT
DTSTART;TZID=America/New_York:20260607T094500
DTEND;TZID=America/New_York:20260607T113000
DTSTAMP:20260422T003641
CREATED:20250821T052039Z
LAST-MODIFIED:20260419T151025Z
UID:52383-1780825500-1780831800@illumin8.nvcc3.org
SUMMARY:Worship Service
DESCRIPTION:Group: NVCC \nJoin us for Worship Service every week! \nYoutube – @Luke S. Hall \nFacebook –	@New Vision Christian Church \nInstagram – @drlukehall & @itsanewvision
URL:https://illumin8.nvcc3.org/event/worship-service-43/
LOCATION:Sanctuary\, 5320 Phillips Dr\, Morrow\, GA\, United States
END:VEVENT
BEGIN:VEVENT
DTSTART;TZID=America/New_York:20260607T094500
DTEND;TZID=America/New_York:20260607T113000
DTSTAMP:20260422T003641
CREATED:20260125T124735Z
LAST-MODIFIED:20260208T133706Z
UID:53867-1780825500-1780831800@illumin8.nvcc3.org
SUMMARY:Vision Riders Bike Blessing
DESCRIPTION:Group: NVCC \nBlessing the Vision Riders during morning service
URL:https://illumin8.nvcc3.org/event/vision-riders-bike-blessing-4/
LOCATION:GA
END:VEVENT
BEGIN:VEVENT
DTSTART;TZID=America/New_York:20260609T190000
DTEND;TZID=America/New_York:20260609T200000
DTSTAMP:20260422T003641
CREATED:20260104T111323Z
LAST-MODIFIED:20260111T113336Z
UID:53584-1781031600-1781035200@illumin8.nvcc3.org
SUMMARY:T.N.T. Small Group Bible Study
DESCRIPTION:Group: NVCC \nJoin us for T.N.T. (Tuesday Night Teaching) Bible Study in our smalls groups where we can learn\, disseminate and dig deeper into the Word of God.
URL:https://illumin8.nvcc3.org/event/t-n-t-small-group-bible-study-38/
LOCATION:New Vision Christian Church\, 5320 Phillips Dr\, Morrow\, GA\, United States
END:VEVENT
BEGIN:VEVENT
DTSTART;TZID=America/New_York:20260609T190000
DTEND;TZID=America/New_York:20260609T200000
DTSTAMP:20260422T003641
CREATED:20260118T120614Z
LAST-MODIFIED:20260118T120614Z
UID:53708-1781031600-1781035200@illumin8.nvcc3.org
SUMMARY:T.N.T. Small Group Bible Study
DESCRIPTION:Group: NVCC \nJoin us for T.N.T. (Tuesday Night Teaching) Bible Study in our smalls groups where we can learn\, disseminate and dig deeper into the Word of God.
URL:https://illumin8.nvcc3.org/event/t-n-t-small-group-bible-study-86/
LOCATION:New Vision Christian Church\, 5320 Phillips Dr\, Morrow\, GA\, United States
END:VEVENT
BEGIN:VEVENT
DTSTART;TZID=America/New_York:20260609T190000
DTEND;TZID=America/New_York:20260609T200000
DTSTAMP:20260422T003641
CREATED:20260118T120622Z
LAST-MODIFIED:20260419T151025Z
UID:53709-1781031600-1781035200@illumin8.nvcc3.org
SUMMARY:T.N.T. Small Group Bible Study
DESCRIPTION:Group: NVCC \nJoin us for T.N.T. (Tuesday Night Teaching) Bible Study in our smalls groups where we can learn\, disseminate and dig deeper into the Word of God.
URL:https://illumin8.nvcc3.org/event/t-n-t-small-group-bible-study-87/
LOCATION:New Vision Christian Church\, 5320 Phillips Dr\, Morrow\, GA\, United States
END:VEVENT
BEGIN:VEVENT
DTSTART;TZID=America/New_York:20260610T060000
DTEND;TZID=America/New_York:20260610T061500
DTSTAMP:20260422T003641
CREATED:20250821T052040Z
LAST-MODIFIED:20260419T151025Z
UID:52385-1781071200-1781072100@illumin8.nvcc3.org
SUMMARY:One Voice Prayer
DESCRIPTION:Group: NVCC \nOur weekly One Voice Prayer Call is on FAM Radio every Wednesday morning at 6:00 AM and sermon broadcasts are Sunday mornings at 8:00 AM. Download the FAM Radio app in your App Store or Google Play today! \nPrayer Requests \nEmail your prayer request or praise report at any time to pray@nvcc3.org. We are interceding in prayer for you EVERY DAY!
URL:https://illumin8.nvcc3.org/event/one-voice-prayer-42/
LOCATION:FAM Radio App
END:VEVENT
BEGIN:VEVENT
DTSTART;TZID=America/New_York:20260613T090000
DTEND;TZID=America/New_York:20260613T110000
DTSTAMP:20260422T003641
CREATED:20260301T143539Z
LAST-MODIFIED:20260419T151026Z
UID:54010-1781341200-1781348400@illumin8.nvcc3.org
SUMMARY:Spring Baptism
DESCRIPTION:Group: NVCC
URL:https://illumin8.nvcc3.org/event/spring-baptism/
LOCATION:Courtyard\, 5320 Phillips Dr\, Morrow\, GA\, United States
END:VEVENT
BEGIN:VEVENT
DTSTART;TZID=America/New_York:20260613T093000
DTEND;TZID=America/New_York:20260613T121500
DTSTAMP:20260422T003641
CREATED:20250925T062359Z
LAST-MODIFIED:20260419T151025Z
UID:52973-1781343000-1781352900@illumin8.nvcc3.org
SUMMARY:Heart of it All Meeting
DESCRIPTION:Group: NVCC \nStruggling with addiction? You are not alone. Join us for “In the Heart of it All\,” a support group open to anyone facing any addiction every Saturday 10:30 am – 12:00 noon. This is a safe\, judgment-free space where you can find support\, encouragement\, and hope. You don’t have to walk this journey alone.
URL:https://illumin8.nvcc3.org/event/heart-of-it-all-meeting-87/
LOCATION:New Vision Christian Church\, 5320 Phillips Dr\, Morrow\, GA\, United States
END:VEVENT
BEGIN:VEVENT
DTSTART;TZID=America/New_York:20260613T100000
DTEND;TZID=America/New_York:20260613T120000
DTSTAMP:20260422T003641
CREATED:20250821T052040Z
LAST-MODIFIED:20250918T061533Z
UID:52386-1781344800-1781352000@illumin8.nvcc3.org
SUMMARY:Heart of it All Meeting
DESCRIPTION:Group: NVCC \nStruggling with addiction? You are not alone. Join us for “In the Heart of it All\,” a support group open to anyone facing any addiction every Saturday 10:30 am – 12:00 noon. This is a safe\, judgment-free space where you can find support\, encouragement\, and hope. You don’t have to walk this journey alone.
URL:https://illumin8.nvcc3.org/event/heart-of-it-all-meeting-44/
LOCATION:Small Lobby – Student Wing\, 5320 Phillips Dr\, Morrow\, GA\, United States
END:VEVENT
BEGIN:VEVENT
DTSTART;TZID=America/New_York:20260614T080000
DTEND;TZID=America/New_York:20260614T090000
DTSTAMP:20260422T003641
CREATED:20250821T052040Z
LAST-MODIFIED:20260419T151026Z
UID:52387-1781424000-1781427600@illumin8.nvcc3.org
SUMMARY:Morning Manna (Sunday School)
DESCRIPTION:Group: NVCC \nJoin us every Sunday as we grasp an understanding of God through His Word and equip you for Kingdom living.
URL:https://illumin8.nvcc3.org/event/morning-manna-sunday-school-40/
LOCATION:New Vision Christian Church\, 5320 Phillips Dr\, Morrow\, GA\, United States
END:VEVENT
BEGIN:VEVENT
DTSTART;TZID=America/New_York:20260614T093000
DTEND;TZID=America/New_York:20260614T113000
DTSTAMP:20260422T003641
CREATED:20250821T052041Z
LAST-MODIFIED:20260419T151026Z
UID:52389-1781429400-1781436600@illumin8.nvcc3.org
SUMMARY:Illumin8 Student Ministry Service
DESCRIPTION:Group: Illumin8 (Staff) \nAll youth are welcome!
URL:https://illumin8.nvcc3.org/event/illumin8-student-ministry-service-43/
LOCATION:NVCC – Student Wing (New Vision Christian Church)\, 5320 Phillips Dr\, Morrow\, GA\, United States
END:VEVENT
BEGIN:VEVENT
DTSTART;TZID=America/New_York:20260614T094500
DTEND;TZID=America/New_York:20260614T113000
DTSTAMP:20260422T003641
CREATED:20250821T052041Z
LAST-MODIFIED:20260118T120700Z
UID:52388-1781430300-1781436600@illumin8.nvcc3.org
SUMMARY:Worship Service
DESCRIPTION:Group: NVCC \nJoin us for Worship Service every week! \nYoutube – @Luke S. Hall \nFacebook –	@New Vision Christian Church \nInstagram – @drlukehall & @itsanewvision
URL:https://illumin8.nvcc3.org/event/worship-service-44/
LOCATION:Sanctuary\, 5320 Phillips Dr\, Morrow\, GA\, United States
END:VEVENT
BEGIN:VEVENT
DTSTART;TZID=America/New_York:20260614T094500
DTEND;TZID=America/New_York:20260614T113000
DTSTAMP:20260422T003641
CREATED:20260125T124746Z
LAST-MODIFIED:20260208T133738Z
UID:53871-1781430300-1781436600@illumin8.nvcc3.org
SUMMARY:Vision Riders Bike Blessing
DESCRIPTION:Group: NVCC \nBlessing the Vision Riders during morning service
URL:https://illumin8.nvcc3.org/event/vision-riders-bike-blessing-5/
LOCATION:GA
END:VEVENT
BEGIN:VEVENT
DTSTART;TZID=America/New_York:20260616T190000
DTEND;TZID=America/New_York:20260616T200000
DTSTAMP:20260422T003641
CREATED:20260104T111404Z
LAST-MODIFIED:20260111T113408Z
UID:53587-1781636400-1781640000@illumin8.nvcc3.org
SUMMARY:T.N.T. Small Group Bible Study
DESCRIPTION:Group: NVCC \nJoin us for T.N.T. (Tuesday Night Teaching) Bible Study in our smalls groups where we can learn\, disseminate and dig deeper into the Word of God.
URL:https://illumin8.nvcc3.org/event/t-n-t-small-group-bible-study-39/
LOCATION:New Vision Christian Church\, 5320 Phillips Dr\, Morrow\, GA\, United States
END:VEVENT
BEGIN:VEVENT
DTSTART;TZID=America/New_York:20260616T190000
DTEND;TZID=America/New_York:20260616T200000
DTSTAMP:20260422T003641
CREATED:20260118T120655Z
LAST-MODIFIED:20260419T151026Z
UID:53710-1781636400-1781640000@illumin8.nvcc3.org
SUMMARY:T.N.T. Small Group Bible Study
DESCRIPTION:Group: NVCC \nJoin us for T.N.T. (Tuesday Night Teaching) Bible Study in our smalls groups where we can learn\, disseminate and dig deeper into the Word of God.
URL:https://illumin8.nvcc3.org/event/t-n-t-small-group-bible-study-88/
LOCATION:New Vision Christian Church\, 5320 Phillips Dr\, Morrow\, GA\, United States
END:VEVENT
BEGIN:VEVENT
DTSTART;TZID=America/New_York:20260616T190000
DTEND;TZID=America/New_York:20260616T200000
DTSTAMP:20260422T003641
CREATED:20260118T120706Z
LAST-MODIFIED:20260118T120706Z
UID:53711-1781636400-1781640000@illumin8.nvcc3.org
SUMMARY:T.N.T. Small Group Bible Study
DESCRIPTION:Group: NVCC \nJoin us for T.N.T. (Tuesday Night Teaching) Bible Study in our smalls groups where we can learn\, disseminate and dig deeper into the Word of God.
URL:https://illumin8.nvcc3.org/event/t-n-t-small-group-bible-study-89/
LOCATION:New Vision Christian Church\, 5320 Phillips Dr\, Morrow\, GA\, United States
END:VEVENT
BEGIN:VEVENT
DTSTART;TZID=America/New_York:20260617T060000
DTEND;TZID=America/New_York:20260617T061500
DTSTAMP:20260422T003641
CREATED:20250821T052042Z
LAST-MODIFIED:20260419T151026Z
UID:52390-1781676000-1781676900@illumin8.nvcc3.org
SUMMARY:One Voice Prayer
DESCRIPTION:Group: NVCC \nOur weekly One Voice Prayer Call is on FAM Radio every Wednesday morning at 6:00 AM and sermon broadcasts are Sunday mornings at 8:00 AM. Download the FAM Radio app in your App Store or Google Play today! \nPrayer Requests \nEmail your prayer request or praise report at any time to pray@nvcc3.org. We are interceding in prayer for you EVERY DAY!
URL:https://illumin8.nvcc3.org/event/one-voice-prayer-43/
LOCATION:FAM Radio App
END:VEVENT
BEGIN:VEVENT
DTSTART;TZID=America/New_York:20260618T183000
DTEND;TZID=America/New_York:20260618T193000
DTSTAMP:20260422T003641
CREATED:20250911T055845Z
LAST-MODIFIED:20260111T113416Z
UID:52895-1781807400-1781811000@illumin8.nvcc3.org
SUMMARY:Catechism Class
DESCRIPTION:Group: NVCC \nRegistration is now CLOSED for this class.
URL:https://illumin8.nvcc3.org/event/catechism-class-21/
LOCATION:Sanctuary\, 5320 Phillips Dr\, Morrow\, GA\, United States
END:VEVENT
BEGIN:VEVENT
DTSTART;TZID=America/New_York:20260618T183000
DTEND;TZID=America/New_York:20260618T193000
DTSTAMP:20260422T003641
CREATED:20260118T120712Z
LAST-MODIFIED:20260419T151026Z
UID:53712-1781807400-1781811000@illumin8.nvcc3.org
SUMMARY:Catechism Class
DESCRIPTION:Group: NVCC \nRegistration is now CLOSED for this class.
URL:https://illumin8.nvcc3.org/event/catechism-class-43/
LOCATION:Sanctuary\, 5320 Phillips Dr\, Morrow\, GA\, United States
END:VEVENT
BEGIN:VEVENT
DTSTART;TZID=America/New_York:20260618T183000
DTEND;TZID=America/New_York:20260618T193000
DTSTAMP:20260422T003641
CREATED:20260118T120713Z
LAST-MODIFIED:20260118T120713Z
UID:53713-1781807400-1781811000@illumin8.nvcc3.org
SUMMARY:Catechism Class
DESCRIPTION:Group: NVCC \nRegistration is now CLOSED for this class.
URL:https://illumin8.nvcc3.org/event/catechism-class-44/
LOCATION:Sanctuary\, 5320 Phillips Dr\, Morrow\, GA\, United States
END:VEVENT
BEGIN:VEVENT
DTSTART;TZID=America/New_York:20260620T093000
DTEND;TZID=America/New_York:20260620T121500
DTSTAMP:20260422T003641
CREATED:20250925T062404Z
LAST-MODIFIED:20260419T151027Z
UID:52976-1781947800-1781957700@illumin8.nvcc3.org
SUMMARY:Heart of it All Meeting
DESCRIPTION:Group: NVCC \nStruggling with addiction? You are not alone. Join us for “In the Heart of it All\,” a support group open to anyone facing any addiction every Saturday 10:30 am – 12:00 noon. This is a safe\, judgment-free space where you can find support\, encouragement\, and hope. You don’t have to walk this journey alone.
URL:https://illumin8.nvcc3.org/event/heart-of-it-all-meeting-88/
LOCATION:New Vision Christian Church\, 5320 Phillips Dr\, Morrow\, GA\, United States
END:VEVENT
BEGIN:VEVENT
DTSTART;TZID=America/New_York:20260620T100000
DTEND;TZID=America/New_York:20260620T120000
DTSTAMP:20260422T003641
CREATED:20250821T052042Z
LAST-MODIFIED:20250918T061535Z
UID:52391-1781949600-1781956800@illumin8.nvcc3.org
SUMMARY:Heart of it All Meeting
DESCRIPTION:Group: NVCC \nStruggling with addiction? You are not alone. Join us for “In the Heart of it All\,” a support group open to anyone facing any addiction every Saturday 10:30 am – 12:00 noon. This is a safe\, judgment-free space where you can find support\, encouragement\, and hope. You don’t have to walk this journey alone.
URL:https://illumin8.nvcc3.org/event/heart-of-it-all-meeting-45/
LOCATION:Small Lobby – Student Wing\, 5320 Phillips Dr\, Morrow\, GA\, United States
END:VEVENT
BEGIN:VEVENT
DTSTART;TZID=America/New_York:20260620T100000
DTEND;TZID=America/New_York:20260620T120000
DTSTAMP:20260422T003641
CREATED:20260201T131434Z
LAST-MODIFIED:20260419T151026Z
UID:53972-1781949600-1781956800@illumin8.nvcc3.org
SUMMARY:Circle of Sons
DESCRIPTION:Group: NVCC
URL:https://illumin8.nvcc3.org/event/circle-of-sons-3/
LOCATION:Lighthouse (158 & 160)\, 5320 Phillips Dr\, Morrow\, GA\, United States
END:VEVENT
BEGIN:VEVENT
DTSTART;TZID=America/New_York:20260621T080000
DTEND;TZID=America/New_York:20260621T090000
DTSTAMP:20260422T003641
CREATED:20250821T052043Z
LAST-MODIFIED:20260419T151027Z
UID:52392-1782028800-1782032400@illumin8.nvcc3.org
SUMMARY:Morning Manna (Sunday School)
DESCRIPTION:Group: NVCC \nJoin us every Sunday as we grasp an understanding of God through His Word and equip you for Kingdom living.
URL:https://illumin8.nvcc3.org/event/morning-manna-sunday-school-41/
LOCATION:New Vision Christian Church\, 5320 Phillips Dr\, Morrow\, GA\, United States
END:VEVENT
BEGIN:VEVENT
DTSTART;TZID=America/New_York:20260621T093000
DTEND;TZID=America/New_York:20260621T113000
DTSTAMP:20260422T003641
CREATED:20250821T052043Z
LAST-MODIFIED:20260419T151027Z
UID:52393-1782034200-1782041400@illumin8.nvcc3.org
SUMMARY:Illumin8 Student Ministry Service
DESCRIPTION:Group: Illumin8 (Staff) \nAll youth are welcome!
URL:https://illumin8.nvcc3.org/event/illumin8-student-ministry-service-44/
LOCATION:NVCC – Student Wing (New Vision Christian Church)\, 5320 Phillips Dr\, Morrow\, GA\, United States
END:VEVENT
BEGIN:VEVENT
DTSTART;TZID=America/New_York:20260621T094500
DTEND;TZID=America/New_York:20260621T113000
DTSTAMP:20260422T003641
CREATED:20250821T052044Z
LAST-MODIFIED:20260208T133828Z
UID:52394-1782035100-1782041400@illumin8.nvcc3.org
SUMMARY:Worship Service
DESCRIPTION:Group: NVCC \nJoin us for Worship Service every week! \nYoutube – @Luke S. Hall \nFacebook –	@New Vision Christian Church \nInstagram – @drlukehall & @itsanewvision
URL:https://illumin8.nvcc3.org/event/worship-service-45/
LOCATION:Sanctuary\, 5320 Phillips Dr\, Morrow\, GA\, United States
END:VEVENT
BEGIN:VEVENT
DTSTART;TZID=America/New_York:20260621T094500
DTEND;TZID=America/New_York:20260621T113000
DTSTAMP:20260422T003641
CREATED:20260125T124748Z
LAST-MODIFIED:20260419T151027Z
UID:53872-1782035100-1782041400@illumin8.nvcc3.org
SUMMARY:Worship Service - Father's Day
DESCRIPTION:Group: NVCC \nJoin us for Worship Service every week! \nYoutube – @Luke S. Hall \nFacebook –	@New Vision Christian Church \nInstagram – @drlukehall & @itsanewvision
URL:https://illumin8.nvcc3.org/event/worship-service-fathers-day/
LOCATION:Sanctuary\, 5320 Phillips Dr\, Morrow\, GA\, United States
END:VEVENT
BEGIN:VEVENT
DTSTART;TZID=America/New_York:20260621T094500
DTEND;TZID=America/New_York:20260621T113000
DTSTAMP:20260422T003641
CREATED:20260125T124807Z
LAST-MODIFIED:20260208T133823Z
UID:53875-1782035100-1782041400@illumin8.nvcc3.org
SUMMARY:Vision Riders Bike Blessing
DESCRIPTION:Group: NVCC \nBlessing the Vision Riders during morning service
URL:https://illumin8.nvcc3.org/event/vision-riders-bike-blessing-6/
LOCATION:GA
END:VEVENT
BEGIN:VEVENT
DTSTART;TZID=America/New_York:20260623T190000
DTEND;TZID=America/New_York:20260623T200000
DTSTAMP:20260422T003641
CREATED:20260104T111425Z
LAST-MODIFIED:20260111T113450Z
UID:53588-1782241200-1782244800@illumin8.nvcc3.org
SUMMARY:T.N.T. Small Group Bible Study
DESCRIPTION:Group: NVCC \nJoin us for T.N.T. (Tuesday Night Teaching) Bible Study in our smalls groups where we can learn\, disseminate and dig deeper into the Word of God.
URL:https://illumin8.nvcc3.org/event/t-n-t-small-group-bible-study-40/
LOCATION:New Vision Christian Church\, 5320 Phillips Dr\, Morrow\, GA\, United States
END:VEVENT
END:VCALENDAR